BEGIN:VCALENDAR
VERSION:2.0
PRODID:-//ChamberMaster//Event Calendar 2.0//EN
METHOD:PUBLISH
X-PUBLISHED-TTL:P3D
REFRESH-INTERVAL:P3D
CALSCALE:GREGORIAN
BEGIN:VEVENT
DTSTART:20181013T140000Z
DTEND:20181013T193000Z
X-MICROSOFT-CDO-ALLDAYEVENT:FALSE
SUMMARY:Genetically Speaking: a DNA Workshop" with Mary Eberle
DESCRIPTION:Join Mary Eberle\, an experienced genealogist and DNA expert\, for a workshop to help you understand your DNA results. This workshop is designed for beginners\, but also covers more advanced topics. For more information go to www.manitowoclibrary.org   Events or click on the banner.
X-ALT-DESC;FMTTYPE=text/html:Join Mary Eberle\, an experienced genealogist and DNA expert\, for a workshop to help you understand your DNA results. This workshop is designed for beginners\, but also covers more advanced topics. For more information go to www.manitowoclibrary.org &gt\; Events or click on the banner.
LOCATION:Balkansky Room\, Manitowoc Public Library\, 707 Quay St.\, Manitowoc\, WI
UID:e.361.13596
SEQUENCE:3
DTSTAMP:20260426T042900Z
URL:https://business.chambermanitowoccounty.org/events/details/genetically-speaking-a-dna-workshop-with-mary-eberle-13596
END:VEVENT

END:VCALENDAR
