BEGIN:VCALENDAR
VERSION:2.0
PRODID:-//ChamberMaster//Event Calendar 2.0//EN
METHOD:PUBLISH
X-PUBLISHED-TTL:P3D
REFRESH-INTERVAL:P3D
CALSCALE:GREGORIAN
BEGIN:VEVENT
DTSTART:20230530T220000Z
DTEND:20230530T230000Z
X-MICROSOFT-CDO-ALLDAYEVENT:FALSE
SUMMARY:Goodbye Celebration for Karen Nichols
DESCRIPTION:Chamber members and the community are invited to this send off celebration for Chamber Executive Director\, Karen Nichols. Please stop in to wish Karen well and help celebrate all of her hard work and accomplishments during the last 20 years.
X-ALT-DESC;FMTTYPE=text/html:Chamber members and the community are invited to this send off celebration for Chamber Executive Director\, Karen Nichols.&nbsp\;Please stop in to wish Karen well and help celebrate all of her hard work and accomplishments during the last 20 years.&nbsp\;
LOCATION:Petskull Brewing Company 1015 Buffalo St. Manitowoc
UID:e.361.18902
SEQUENCE:3
DTSTAMP:20260419T173146Z
URL:https://business.chambermanitowoccounty.org/events/details/goodbye-celebration-for-karen-nichols-18902
END:VEVENT

END:VCALENDAR
