BEGIN:VCALENDAR
VERSION:2.0
PRODID:-//ChamberMaster//Event Calendar 2.0//EN
METHOD:PUBLISH
X-PUBLISHED-TTL:P3D
REFRESH-INTERVAL:P3D
CALSCALE:GREGORIAN
BEGIN:VEVENT
DTSTART:20190801T210000Z
DTEND:20190801T230000Z
X-MICROSOFT-CDO-ALLDAYEVENT:FALSE
SUMMARY:Grand Re-Opening and Ribbon Cutting at Renew Day Spa
DESCRIPTION:Do you enjoy getting pampered?  Would you like to have some "YOU" time?  Or how about a gift of enjoyment for someone else a family member\, co-worker\, or friend?  At Renew Day Spa\, we are all about providing wonderful service in a calm\, peaceful\, pleasant atmosphere.  July 15th is our 15 year anniversary and as Manitowoc's best kept secret\, we invite to stop in and check us out. \n\n\n\nPlease join us for our grand re-opening and ribbon cutting on Thursday\, August 1st from 4-6.  Savor tasty appetizers\, beverages\, and of course social networking.
X-ALT-DESC;FMTTYPE=text/html:<br />\n<br />\nDo you enjoy getting pampered?&nbsp\; Would you like to have some &ldquo\;YOU&rdquo\; time?&nbsp\; Or how about a gift of enjoyment for someone else&hellip\;a family member\, co-worker\, or friend?&nbsp\; At Renew Day Spa\, we are all about providing wonderful service in a calm\, peaceful\, pleasant atmosphere.&nbsp\; July 15th is our 15 year anniversary and as Manitowoc&rsquo\;s best kept secret\, we invite to stop in and check us out.&nbsp\;<br />\n<br />\nPlease join us for our grand re-opening and ribbon cutting on Thursday\, August 1st from 4-6.&nbsp\; Savor tasty appetizers\, beverages\, and of course social networking.&nbsp\;
LOCATION:Renew Day Spa 2510 Washington St.\, Manitowoc
UID:e.361.14420
SEQUENCE:3
DTSTAMP:20260425T170630Z
URL:https://business.chambermanitowoccounty.org/events/details/grand-re-opening-and-ribbon-cutting-at-renew-day-spa-14420
END:VEVENT

END:VCALENDAR
