BEGIN:VCALENDAR
VERSION:2.0
PRODID:-//ChamberMaster//Event Calendar 2.0//EN
METHOD:PUBLISH
X-PUBLISHED-TTL:P3D
REFRESH-INTERVAL:P3D
CALSCALE:GREGORIAN
BEGIN:VEVENT
DTSTART:20230724T160000Z
DTEND:20230725T000000Z
X-MICROSOFT-CDO-ALLDAYEVENT:FALSE
SUMMARY:Great Futures Fore Kids Golf Outing
DESCRIPTION:The Boys & Girls Club of Manitowoc County is preparing for its 2nd Annual Great Futures Fore Kids Golf Outing which will take place on Monday\, July 24th at Autumn Ridge Golf Course. \n\nThis fun and memorable event will start off with 18 holes of golf including course games and raffles\, followed by a reception and a delicious dinner paired with wine. A hybrid (virtual and in-person) silent auction will open for bidding Thursday\, July 20th and end the night of the 24th. Enjoy the day golfing while supporting the youth of Manitowoc County. \n\nVisit www.bgcmanitowoccounty.org/events to learn more about the event. Registration opens in May. Sponsorships for this event are available\, if interested please contact Callie at cbrice@bgcmanitowoccounty.org or (920) 905-5544.
X-ALT-DESC;FMTTYPE=text/html:<span style="color:#222222"><span style="font-family:arial\,sans-serif">The Boys &amp\; Girls Club of Manitowoc County is preparing for its 2nd Annual&nbsp\;Great Futures Fore Kids Golf Outing which will take place on Monday\, July 24<sup>th</sup> at Autumn Ridge Golf Course.&nbsp\;</span></span><br />\n<span style="font-family:arial\,sans-serif"><span style="color:#222222">This fun and memorable event will start off with 18 holes of golf including course games and raffles\, followed by a reception and a delicious dinner paired with wine. A hybrid (virtual and in-person) silent auction will open for bidding Thursday\, July 20<span style="font-size:13.3333px">th</span></span></span><span style="font-family:arial\,sans-serif"><span style="color:#222222">&nbsp\;and end the night of the 24th</span></span><span style="font-family:arial\,sans-serif"><span style="color:#222222">. Enjoy the day golfing while supporting the youth of Manitowoc County.&nbsp\;</span></span><br />\n<span style="color:#222222"><span style="font-family:arial\,sans-serif">Visit </span></span><a href="http://www.bgcmanitowoccounty.org/events"><span style="color:windowtext"><span style="font-family:arial\,sans-serif">www.bgcmanitowoccounty.org/events</span></span></a><span style="color:#222222"><span style="font-family:arial\,sans-serif"> to learn more about the event. Registration opens in May. Sponsorships for this event are available\, if interested please contact Callie at </span></span><a href="mailto:cbrice@bgcmanitowoccounty.org"><span style="color:windowtext"><span style="font-family:arial\,sans-serif">cbrice@bgcmanitowoccounty.org</span></span></a><span style="color:#222222"><span style="font-family:arial\,sans-serif"> or (920) 905-5544. </span></span>
LOCATION:Autumn Ridge Golf Course One Straight Dr. Valders\, WI 54245
UID:e.361.18409
SEQUENCE:3
DTSTAMP:20260419T143359Z
URL:https://business.chambermanitowoccounty.org/events/details/great-futures-fore-kids-golf-outing-18409
END:VEVENT

END:VCALENDAR
