BEGIN:VCALENDAR
VERSION:2.0
PRODID:-//ChamberMaster//Event Calendar 2.0//EN
METHOD:PUBLISH
X-PUBLISHED-TTL:P3D
REFRESH-INTERVAL:P3D
CALSCALE:GREGORIAN
BEGIN:VEVENT
DTSTART:20220407T140000Z
DTEND:20220409T210000Z
X-MICROSOFT-CDO-ALLDAYEVENT:FALSE
SUMMARY:Hatching Chicks at Farm Wisconsin
DESCRIPTION:Have you ever seen a chick hatch? We'll be hatching chicks on-site on Thursday\, April 7th! After these chicks are welcomed into the world\, they'll be at Farm Wisconsin on Friday and Saturday to visit! Seeing the chicks is included with Farm Wisconsin admission.
X-ALT-DESC;FMTTYPE=text/html:Have you ever seen a chick hatch? We&rsquo\;ll be hatching chicks on-site on Thursday\, April 7th! After these chicks are welcomed into the world\, they&rsquo\;ll be at Farm Wisconsin on Friday and Saturday to visit! Seeing the chicks is included with Farm Wisconsin admission.
LOCATION:Farm Wisconsin Discovery Center (7001 Gass Lake Rd Manitowoc\, WI 54220)
UID:e.361.17279
SEQUENCE:3
DTSTAMP:20260422T103707Z
URL:https://business.chambermanitowoccounty.org/events/details/hatching-chicks-at-farm-wisconsin-17279
END:VEVENT

END:VCALENDAR
