BEGIN:VCALENDAR
VERSION:2.0
PRODID:-//ChamberMaster//Event Calendar 2.0//EN
METHOD:PUBLISH
X-PUBLISHED-TTL:P3D
REFRESH-INTERVAL:P3D
CALSCALE:GREGORIAN
BEGIN:VEVENT
DTSTART:20190308T013000Z
DTEND:20190308T040000Z
X-MICROSOFT-CDO-ALLDAYEVENT:FALSE
SUMMARY:Havana Cuba All-Stars
DESCRIPTION:The Havana Cuba All-Stars are some of Cuba's greatest musicians. With rhythms and melodies from the cha cha to the rumba\, from "Son Cubano" style to the salsa\, the All-Stars will showcase a wide variety of Cuban beats. The group is inspired by and dedicated to promoting the entire tapestry of Cuban music through a fresh\, contemporary lens. In their upcoming "Asere" or "Friendship" tour\, the All-Stars will be backed by three of Cuba's finest dancing couples. With the greatest dancers and musicians of Cuba working in tandem\, the American encore of the Havana Cuba All-Stars' tour will be a spirited spectacle of song and dance\, exemplifying Cuba's greatest musical traditions.
X-ALT-DESC;FMTTYPE=text/html:The Havana Cuba All-Stars are some of Cuba&rsquo\;s greatest musicians. With rhythms and melodies from the cha cha to the rumba\, from &ldquo\;Son Cubano&rdquo\; style to the salsa\, the All-Stars will showcase a wide variety of Cuban beats. The group is inspired by and dedicated to promoting the entire tapestry of Cuban music through a fresh\, contemporary lens. In their upcoming &ldquo\;Asere&rdquo\;&mdash\;or &ldquo\;Friendship&rdquo\;&mdash\;tour\, the All-Stars will be backed by three of Cuba&rsquo\;s finest dancing couples. With the greatest dancers and musicians of Cuba working in tandem\, the American encore of the Havana Cuba All-Stars&rsquo\; tour will be a spirited spectacle of song and dance\, exemplifying Cuba&rsquo\;s greatest musical traditions.
LOCATION:826 N 8th St\, Sheboygan
UID:e.361.13790
SEQUENCE:3
DTSTAMP:20260425T230202Z
URL:https://business.chambermanitowoccounty.org/events/details/havana-cuba-all-stars-13790
END:VEVENT

END:VCALENDAR
