BEGIN:VCALENDAR
VERSION:2.0
PRODID:-//ChamberMaster//Event Calendar 2.0//EN
METHOD:PUBLISH
X-PUBLISHED-TTL:P3D
REFRESH-INTERVAL:P3D
CALSCALE:GREGORIAN
BEGIN:VEVENT
DTSTART:20230131T143000Z
DTEND:20230131T200000Z
X-MICROSOFT-CDO-ALLDAYEVENT:FALSE
SUMMARY:Heavy Metal Bus Tour
DESCRIPTION:The Heavy Metal Bus Tour provides 10-12th grade students with the opportunity to see up close and personal the great career opportunities available in manufacturing. \n\n\n\nStudents will tour multiple manufacturing facilities including Kaysun Corporation\, Parker Hannifin HPD\, Lakeside Foods and Manitowoc Tool and Manufacturing\; as well as have the opportunity to hear from industry professionals about career opportunities.\n\n\n\nParticipants are welcome from all Manitowoc County High Schools.  For more information talk to your High School Counselor or call The Chamber at (920) 684-5575.
X-ALT-DESC;FMTTYPE=text/html:The Heavy Metal Bus Tour provides 10-12th grade students with the opportunity to see up close and personal the great career opportunities available in manufacturing.&nbsp\;<br />\n<br />\nStudents will tour multiple manufacturing facilities including Kaysun Corporation\, Parker Hannifin HPD\, Lakeside Foods and Manitowoc Tool and Manufacturing\; as well as have the opportunity to hear from industry professionals about career opportunities.<br />\n<br />\nParticipants are welcome from all Manitowoc County High Schools.&nbsp\; For more information talk to your High School Counselor or call The Chamber at (920) 684-5575.
LOCATION:
UID:e.361.18069
SEQUENCE:3
DTSTAMP:20260419T233133Z
URL:https://business.chambermanitowoccounty.org/events/details/heavy-metal-bus-tour-18069
END:VEVENT

END:VCALENDAR
