BEGIN:VCALENDAR
VERSION:2.0
PRODID:-//ChamberMaster//Event Calendar 2.0//EN
METHOD:PUBLISH
X-PUBLISHED-TTL:P3D
REFRESH-INTERVAL:P3D
CALSCALE:GREGORIAN
BEGIN:VEVENT
DTSTART:20190430T230000Z
DTEND:20190501T000000Z
X-MICROSOFT-CDO-ALLDAYEVENT:FALSE
SUMMARY:Hospice 101 - Hamilton Care Center
DESCRIPTION:Hospice 101\n\nWhen a loved one receives a terminal diagnosis\, it can be a scary and emotional time. But terminal doesn't necessarily mean immediate and  it doesn't mean being alone.
X-ALT-DESC;FMTTYPE=text/html:<span style="font-size:14px\;"><strong><span style="font-family:calibri light\,sans-serif\;">Hospice 101</span></strong><br />\n<span style="font-family:calibri light\,sans-serif\;">When a loved one receives a terminal diagnosis\, it can be a scary and emotional time. But terminal doesn&rsquo\;t necessarily mean immediate and&nbsp\; it doesn&rsquo\;t mean being alone.</span></span>
LOCATION:Hamilton Care Center North Dining Room
UID:e.361.14110
SEQUENCE:3
DTSTAMP:20260425T214838Z
URL:https://business.chambermanitowoccounty.org/events/details/hospice-101-hamilton-care-center-14110
END:VEVENT

END:VCALENDAR
