BEGIN:VCALENDAR
VERSION:2.0
PRODID:-//ChamberMaster//Event Calendar 2.0//EN
METHOD:PUBLISH
X-PUBLISHED-TTL:P3D
REFRESH-INTERVAL:P3D
CALSCALE:GREGORIAN
BEGIN:VEVENT
DTSTART:20210108T160000Z
DTEND:20210108T163000Z
X-MICROSOFT-CDO-ALLDAYEVENT:FALSE
SUMMARY:Hospitality and Tourism
DESCRIPTION:Hospitality and Tourism\nLodging Recreation\, \n\nAmusements and Attractions \n\nRestaurants and Food/Beverage Services Travel and Tourism
X-ALT-DESC;FMTTYPE=text/html:Hospitality and Tourism\n<div>Lodging Recreation\,&nbsp\;</div>\n\n<div>Amusements and Attractions&nbsp\;</div>\n\n<div>Restaurants and Food/Beverage Services Travel and Tourism&nbsp\;</div>\n
LOCATION:
UID:e.361.15829
SEQUENCE:3
DTSTAMP:20260424T200855Z
URL:https://business.chambermanitowoccounty.org/events/details/hospitality-and-tourism-15829
END:VEVENT

END:VCALENDAR
