BEGIN:VCALENDAR
VERSION:2.0
PRODID:-//ChamberMaster//Event Calendar 2.0//EN
METHOD:PUBLISH
X-PUBLISHED-TTL:P3D
REFRESH-INTERVAL:P3D
CALSCALE:GREGORIAN
BEGIN:VEVENT
DTSTART:20191003T164500Z
DTEND:20191004T203000Z
X-MICROSOFT-CDO-ALLDAYEVENT:FALSE
SUMMARY:“Impairment Without Disability” Conference
DESCRIPTION:Aurora BayCare Medical Center\, Essentia Health\, and Mayo Clinic are pleased to offer our 12th annual "Impairment Without Disability" Conference focusing on creating efficiencies and bridging the gaps between employers\, employees\, and practitioners. This conference presented by a faculty of internationally recognized speakers will focus on strategies to effectively manage workplace disability while minimizing the effect of disabling conditions by encouraging return to work and promoting health and productivity.  \n\nPlease visit www.impairmentwithoutdisability.com for more information and to register. Sponsorship and exhibitor opportunities are also available.
X-ALT-DESC;FMTTYPE=text/html:<em><span style="border:none windowtext 1.0pt\;padding:0in\;"><span style="color:#3A3A3A\;"><span style="font-family:segoe ui\,sans-serif\;"><span style="font-size:11.5pt\;">Aurora BayCare Medical Center\, Essentia</span></span></span></span></em><span style="color:#3A3A3A\;"><span style="font-family:segoe ui\,sans-serif\;"><span style="font-size:11.5pt\;">&nbsp\;<em><span style="border:none windowtext 1.0pt\;padding:0in\;">Health\, and Mayo Clinic</span></em>&nbsp\;are pleased to offer our 12th annual &ldquo\;Impairment Without Disability&rdquo\; Conference focusing on creating efficiencies and bridging the gaps between employers\, employees\, and practitioners. This conference presented by a faculty of internationally recognized speakers will focus on strategies to effectively manage workplace disability while minimizing the effect of disabling conditions by encouraging return to work and promoting health and productivity. &nbsp\;</span></span></span><br />\n<span style="color:#3A3A3A\;"><span style="font-family:segoe ui\,sans-serif\;"><span style="font-size:11.5pt\;">Please visit <a href="http://www.impairmentwithoutdisability.com">www.impairmentwithoutdisability.com</a></span></span></span><span style="font-family:segoe ui\,sans-serif\;"><span style="font-size:11.5pt\;"> for more information and to register. Sponsorship and exhibitor opportunities are also available. </span></span>
LOCATION:Lambeau Field with overnight accommodations at Lodge Kohler venue info: http://www.impairmentwithoutdisability.com/venue-info/
UID:e.361.14442
SEQUENCE:3
DTSTAMP:20260425T143241Z
URL:https://business.chambermanitowoccounty.org/events/details/impairment-without-disability-conference-14442
END:VEVENT

END:VCALENDAR
