BEGIN:VCALENDAR
VERSION:2.0
PRODID:-//ChamberMaster//Event Calendar 2.0//EN
METHOD:PUBLISH
X-PUBLISHED-TTL:P3D
REFRESH-INTERVAL:P3D
CALSCALE:GREGORIAN
BEGIN:VEVENT
DTSTART:20190113T013000Z
DTEND:20190113T030000Z
X-MICROSOFT-CDO-ALLDAYEVENT:FALSE
SUMMARY:John Oates with opening act\, Adam Ezra
DESCRIPTION:Experience the soulful music John Oates of the Rock and Roll Hall of Fame best-selling duo\, Hall & Oates\, with opening act Adam Ezra of the Adam Ezra group.
X-ALT-DESC;FMTTYPE=text/html:Experience the soulful music John Oates of the Rock and Roll Hall of Fame best-selling duo\, Hall &amp\; Oates\, with opening act Adam Ezra of the Adam Ezra group.
LOCATION:Weill Center for the Performing Arts\, 826 N 8th Street\, Sheboygan
UID:e.361.13719
SEQUENCE:3
DTSTAMP:20260426T010752Z
URL:https://business.chambermanitowoccounty.org/events/details/john-oates-with-opening-act-adam-ezra-13719
END:VEVENT

END:VCALENDAR
