BEGIN:VCALENDAR
VERSION:2.0
PRODID:-//ChamberMaster//Event Calendar 2.0//EN
METHOD:PUBLISH
X-PUBLISHED-TTL:P3D
REFRESH-INTERVAL:P3D
CALSCALE:GREGORIAN
BEGIN:VEVENT
DTSTART:20220209T134500Z
DTEND:20220209T203000Z
X-MICROSOFT-CDO-ALLDAYEVENT:FALSE
SUMMARY:Junior Leadership 2021-2022
DESCRIPTION:
X-ALT-DESC;FMTTYPE=text/html:
LOCATION:
UID:e.361.16141
SEQUENCE:3
DTSTAMP:20260422T171310Z
URL:https://business.chambermanitowoccounty.org/events/details/junior-leadership-2021-2022-02-09-2022-16141
END:VEVENT

END:VCALENDAR
