BEGIN:VCALENDAR
VERSION:2.0
PRODID:-//ChamberMaster//Event Calendar 2.0//EN
METHOD:PUBLISH
X-PUBLISHED-TTL:P3D
REFRESH-INTERVAL:P3D
CALSCALE:GREGORIAN
BEGIN:VEVENT
DTSTART:20190713T170000Z
DTEND:20190713T170000Z
X-MICROSOFT-CDO-ALLDAYEVENT:FALSE
SUMMARY:Kid's Fishing Day
DESCRIPTION:Come join the fun at Fleet Farm for Kid's Fishing Day! Free prizes! Goodies bags for all participants that complete our activities. Play games and learn about fishing at the same time.
X-ALT-DESC;FMTTYPE=text/html:Come join the fun at Fleet Farm for Kid&#39\;s Fishing Day! Free prizes! Goodies bags for all participants that complete our activities. Play games and learn about fishing at the same time.
LOCATION:Fleet Farm
UID:e.361.14436
SEQUENCE:3
DTSTAMP:20260425T181536Z
URL:https://business.chambermanitowoccounty.org/events/details/kid-s-fishing-day-14436
END:VEVENT

END:VCALENDAR
