BEGIN:VCALENDAR
VERSION:2.0
PRODID:-//ChamberMaster//Event Calendar 2.0//EN
METHOD:PUBLISH
X-PUBLISHED-TTL:P3D
REFRESH-INTERVAL:P3D
CALSCALE:GREGORIAN
BEGIN:VEVENT
DTSTART:20211024T003000Z
DTEND:20211024T023000Z
X-MICROSOFT-CDO-ALLDAYEVENT:FALSE
SUMMARY:KIWANIS CLUB OF GREATER SHEBOYGAN PRESENTS THE DOCKSIDERS
DESCRIPTION:Imagine that its 1981 and you're cruising the Atlantic shores of the Hamptons with your friends. Bikinis are fluorescent\, polo collars are popped\, and boat shoes are rocked sockless. In the background\, your booming sound system is playing the soft-rock sounds of Michael McDonald\, Olivia Newton-John\, Hall & Oates\, Christopher Cross and Air Supply. The Docksiders are made up of veteran musicians from Milwaukee\, Wisconsin   led by 3-time Grammy  nominee\, Kevin Sucher. Their unique tribute act of your favorite soft rock songs of the 70s and 80s   now defined as Yacht Rock   have been entertaining thousands of people for years and audiences are only getting bigger   thanks Weezer! The Docksiders show stopping hit song after hit song\, costume changes\, and visual production\, is only topped by their world-class performance. The Docksiders   Yacht Rock at its Finest! Concert profits benefit DeLand Receiving Home\, which provides temporary emergency shelter for children between the ages of three and seventeen\, in Sheboygan WI.
X-ALT-DESC;FMTTYPE=text/html:Imagine that its 1981 and you&rsquo\;re cruising the Atlantic shores of the Hamptons with your friends. Bikinis are fluorescent\, polo collars are popped\, and boat shoes are rocked sockless. In the background\, your booming sound system is playing the soft-rock sounds of Michael McDonald\, Olivia Newton-John\, Hall &amp\; Oates\, Christopher Cross and Air Supply. The Docksiders are made up of veteran musicians from Milwaukee\, Wisconsin &ndash\; led by 3-time Grammy&trade\; nominee\, Kevin Sucher. Their unique tribute act of your favorite soft rock songs of the 70s and 80s &ndash\; now defined as Yacht Rock &ndash\; have been entertaining thousands of people for years and audiences are only getting bigger &ndash\; thanks Weezer! The Docksiders show stopping hit song after hit song\, costume changes\, and visual production\, is only topped by their world-class performance. The Docksiders &ndash\; Yacht Rock at its Finest! Concert profits benefit DeLand Receiving Home\, which provides temporary emergency shelter for children between the ages of three and seventeen\, in Sheboygan WI.
LOCATION:The Weill Center 826 North 8th Street Sheboygan\, WI 53081
UID:e.361.16460
SEQUENCE:3
DTSTAMP:20260422T225057Z
URL:https://business.chambermanitowoccounty.org/events/details/kiwanis-club-of-greater-sheboygan-presents-the-docksiders-16460
END:VEVENT

END:VCALENDAR
