BEGIN:VCALENDAR
VERSION:2.0
PRODID:-//ChamberMaster//Event Calendar 2.0//EN
METHOD:PUBLISH
X-PUBLISHED-TTL:P3D
REFRESH-INTERVAL:P3D
CALSCALE:GREGORIAN
BEGIN:VEVENT
DTSTART:20181104T003000Z
DTEND:20181104T020000Z
X-MICROSOFT-CDO-ALLDAYEVENT:FALSE
SUMMARY:Lakeshore Big Band "Bounce\, Ballads & Blues"
DESCRIPTION:Lakeshore Big Band "Bounce\, Ballads & Blues"\, songs that made us dance\, swoon\, and fall in (and out) of love! Featuring Billie's Bounce\, Blues in the Night\, Over the Rainbow\, Teach Me Tonight\, and so many more! Bring your sweetheart out for a night on the town.
X-ALT-DESC;FMTTYPE=text/html:Lakeshore Big Band &quot\;Bounce\, Ballads &amp\; Blues&quot\;\, songs that made us dance\, swoon\, and fall in (and out) of love! Featuring Billie&#39\;s Bounce\, Blues in the Night\, Over the Rainbow\, Teach Me Tonight\, and so many more! Bring your sweetheart out for a night on the town.
LOCATION:Capitol Civic Centre\, Manitowoc\, WI
UID:e.361.13600
SEQUENCE:3
DTSTAMP:20260426T032635Z
URL:https://business.chambermanitowoccounty.org/events/details/lakeshore-big-band-bounce-ballads-blues-13600
END:VEVENT

END:VCALENDAR
