BEGIN:VCALENDAR
VERSION:2.0
PRODID:-//ChamberMaster//Event Calendar 2.0//EN
METHOD:PUBLISH
X-PUBLISHED-TTL:P3D
REFRESH-INTERVAL:P3D
CALSCALE:GREGORIAN
BEGIN:VEVENT
DTSTART:20190817T210000Z
DTEND:20190818T010000Z
X-MICROSOFT-CDO-ALLDAYEVENT:FALSE
SUMMARY:Lakeshore CAP 0.5K "Race for the Rest of Us
DESCRIPTION:This\, um\, race may be the most grueling of your life. This tongue-in-cheek event is geared to the classic underachiever\, who wants to participate in an\, um\, athletic competition and train for it by sleeping in late\, eating donuts and drinking beer. You'll receive a smug oval magnet for your car\, a one-of-a-kind event t-shirt\, a participation medal\, because we celebrate ALL abilities and underachievers\, and bragging rights for participating in the punishing 546.8 yard event. And\, you'll be raising money for a local cause! Join us for the grueling\, um\, race or the party afterwards. Food\, beer and music will be available after the\, um\, race.
X-ALT-DESC;FMTTYPE=text/html:This\, um\, race may be the most grueling of your life. This tongue-in-cheek event is geared to the classic underachiever\, who wants to participate in an\, um\, athletic competition and train for it by sleeping in late\, eating donuts and drinking beer. You&rsquo\;ll receive a smug oval magnet for your car\, a one-of-a-kind event t-shirt\, a participation medal\, because we celebrate ALL abilities and underachievers\, and bragging rights for participating in the punishing 546.8 yard event. And\, you&rsquo\;ll be raising money for a local cause! Join us for the grueling\, um\, race or the party afterwards. Food\, beer and music will be available after the\, um\, race.
LOCATION:Lincoln Park- Manitowoc
UID:e.361.14160
SEQUENCE:3
DTSTAMP:20260425T170606Z
URL:https://business.chambermanitowoccounty.org/events/details/lakeshore-cap-0-5k-race-for-the-rest-of-us-14160
END:VEVENT

END:VCALENDAR
