BEGIN:VCALENDAR
VERSION:2.0
PRODID:-//ChamberMaster//Event Calendar 2.0//EN
METHOD:PUBLISH
X-PUBLISHED-TTL:P3D
REFRESH-INTERVAL:P3D
CALSCALE:GREGORIAN
BEGIN:VEVENT
DTSTART:20181021T003000Z
DTEND:20181021T020000Z
X-MICROSOFT-CDO-ALLDAYEVENT:FALSE
SUMMARY:Lakeshore Wind Ensemble\, "Music of the Masters"
DESCRIPTION:UW-Manitowoc Lakeshore Wind Ensemble presents "Music of the Masters"\, featuring Michael J. Arendt as guest conductor\, and saxophone soloist David Lovrien. Selections include Beacons written by Emmy-award-winning composer Garth Neustadter\; and music by Gershwin\, Holst and Beethoven.
X-ALT-DESC;FMTTYPE=text/html:UW-Manitowoc Lakeshore Wind Ensemble presents &quot\;Music of the Masters&quot\;\, featuring Michael J. Arendt as guest conductor\, and saxophone soloist David Lovrien. Selections include Beacons written by Emmy-award-winning composer Garth Neustadter\; and music by Gershwin\, Holst and Beethoven.
LOCATION:Capitol Civic Centre\, Manitowoc\, WI
UID:e.361.13598
SEQUENCE:3
DTSTAMP:20260426T043520Z
URL:https://business.chambermanitowoccounty.org/events/details/lakeshore-wind-ensemble-music-of-the-masters-13598
END:VEVENT

END:VCALENDAR
