BEGIN:VCALENDAR
VERSION:2.0
PRODID:-//ChamberMaster//Event Calendar 2.0//EN
METHOD:PUBLISH
X-PUBLISHED-TTL:P3D
REFRESH-INTERVAL:P3D
CALSCALE:GREGORIAN
BEGIN:VEVENT
DTSTART:20210111T190000Z
DTEND:20210111T193000Z
X-MICROSOFT-CDO-ALLDAYEVENT:FALSE
SUMMARY:Law and Public Safety
DESCRIPTION:Law\, Public Safety\, Corrections and Security Correction Services Emergency and Fire Management Services\nLaw Enforcement Services\n\nLegal Services Security and Protective Services
X-ALT-DESC;FMTTYPE=text/html:<br />\nLaw\, Public Safety\, Corrections and Security Correction Services Emergency and Fire Management Services\n<div>Law Enforcement Services</div>\n\n<div>Legal Services Security and Protective Services</div>\n
LOCATION:
UID:e.361.15830
SEQUENCE:3
DTSTAMP:20260424T200656Z
URL:https://business.chambermanitowoccounty.org/events/details/law-and-public-safety-15830
END:VEVENT

END:VCALENDAR
