BEGIN:VCALENDAR
VERSION:2.0
PRODID:-//ChamberMaster//Event Calendar 2.0//EN
METHOD:PUBLISH
X-PUBLISHED-TTL:P3D
REFRESH-INTERVAL:P3D
CALSCALE:GREGORIAN
BEGIN:VEVENT
DTSTART:20190428T003000Z
DTEND:20190428T030000Z
X-MICROSOFT-CDO-ALLDAYEVENT:FALSE
SUMMARY:Leftover Salmon with opening act Adam Greuel
DESCRIPTION:For the past quarter-century\, Leftover Salmon has established itself as key to the Americana genre\, digging deep into the well that supplies its influences\; rock 'n' roll\, folk\, bluegrass\, Cajun\, soul\, zydeco\, jazz and blues. They are the direct descendants of bands like Little Feat\, New Grass Revival\, Grateful Dead and The Band\, born of the heart and soul of America itself\, playing music that reflects the sounds emanating from the Appalachian hills\, the streets of New Orleans\, the clubs of Chicago\, the plains of Texas\, and the mountains of Colorado. They've endured over all these years\, earning their unequivocal stature as a truly legendary band.
X-ALT-DESC;FMTTYPE=text/html:For the past quarter-century\, Leftover Salmon has established itself as key to the Americana genre\, digging deep into the well that supplies its influences\; rock &lsquo\;n&rsquo\; roll\, folk\, bluegrass\, Cajun\, soul\, zydeco\, jazz and blues. They are the direct descendants of bands like Little Feat\, New Grass Revival\, Grateful Dead and The Band\, born of the heart and soul of America itself\, playing music that reflects the sounds emanating from the Appalachian hills\, the streets of New Orleans\, the clubs of Chicago\, the plains of Texas\, and the mountains of Colorado. They&rsquo\;ve endured over all these years\, earning their unequivocal stature as a truly legendary band.
LOCATION:826 N 8th St\, Sheboygan 53081
UID:e.361.13818
SEQUENCE:3
DTSTAMP:20260425T214737Z
URL:https://business.chambermanitowoccounty.org/events/details/leftover-salmon-with-opening-act-adam-greuel-13818
END:VEVENT

END:VCALENDAR
