BEGIN:VCALENDAR
VERSION:2.0
PRODID:-//ChamberMaster//Event Calendar 2.0//EN
METHOD:PUBLISH
X-PUBLISHED-TTL:P3D
REFRESH-INTERVAL:P3D
CALSCALE:GREGORIAN
BEGIN:VEVENT
DTSTART;VALUE=DATE:20191115
DTEND;VALUE=DATE:20191116
TRANSP:TRANSPARENT
X-MICROSOFT-CDO-ALLDAYEVENT:TRUE
SUMMARY:LIFELONG LEARNING INSTITUTE OPENS FOR REGISTRATION IN MANITOWOC AND SHEBOYGAN
DESCRIPTION:Lifelong Learning Institute (LLI) is a non-profit\, peer-led volunteer program for adults interested in keeping active and involved. Each spring and fall\, LLI offers a wide variety of courses including history\, travel\, music\, painting\, computers\, science\, health\, cooking\, crafts\, current events and more. Courses are held at the Green Bay\, Manitowoc and Sheboygan Campuses\, along with other northeast Wisconsin venues. There are no tests\, no papers\, no credits   just learning\, socialization and fun! LLI is part of UW-Green Bay's Continuing Education and Community Engagement Division.
X-ALT-DESC;FMTTYPE=text/html:<span style="font-size:14px\;"><span style="font-family:gotham\;">Lifelong Learning Institute (LLI) is a non-profit\, peer-led volunteer program for adults interested in keeping active and involved. Each spring and fall\, LLI offers a wide variety of courses including history\, travel\, music\, painting\, computers\, science\, health\, cooking\, crafts\, current events and more. Courses are held <u>at the Green Bay\, Manitowoc and Sheboygan Campuses</u>\, along with other northeast Wisconsin venues. There are no tests\, no papers\, no credits &mdash\; just learning\, socialization and fun! LLI is part of UW-Green Bay&rsquo\;s Continuing Education and Community Engagement Division.</span></span>
LOCATION:
UID:e.361.14809
SEQUENCE:3
DTSTAMP:20260425T132013Z
URL:https://business.chambermanitowoccounty.org/events/details/lifelong-learning-institute-opens-for-registration-in-manitowoc-and-sheboygan-14809
END:VEVENT

END:VCALENDAR
