BEGIN:VCALENDAR
VERSION:2.0
PRODID:-//ChamberMaster//Event Calendar 2.0//EN
METHOD:PUBLISH
X-PUBLISHED-TTL:P3D
REFRESH-INTERVAL:P3D
CALSCALE:GREGORIAN
BEGIN:VEVENT
DTSTART:20190217T160000Z
DTEND:20190217T210000Z
X-MICROSOFT-CDO-ALLDAYEVENT:FALSE
SUMMARY:Love Bowls
DESCRIPTION:What is better than a warm bowl of soup on a cold winter day? Seventy bowls of soup! The 19th annual Love Bowls soup extravaganza will be held 10 a.m.-3 p.m. Sunday\, Feb. 17 at Sheboygan South High School. Participants will be treated to an assortment of soups\, breads\, cookies and beverages\, in addition to auctions and The Squeezettes performing. The cost is $25 per person ages 2 and up\, and includes a handmade Talavera bowl or plate for each diner to take home. Tickets will be available at the door. Proceeds benefit Fresh Meals On Wheels of Sheboygan County\, Inc.
X-ALT-DESC;FMTTYPE=text/html:What is better than a warm bowl of soup on a cold winter day? Seventy bowls of soup! The 19th annual Love Bowls soup extravaganza will be held 10 a.m.-3 p.m. Sunday\, Feb. 17 at Sheboygan South High School. Participants will be treated to an assortment of soups\, breads\, cookies and beverages\, in addition to auctions and The Squeezettes performing. The cost is $25 per person ages 2 and up\, and includes a handmade Talavera bowl or plate for each diner to take home. Tickets will be available at the door. Proceeds benefit Fresh Meals On Wheels of Sheboygan County\, Inc.
LOCATION:Sheboygan South High School
UID:e.361.13718
SEQUENCE:3
DTSTAMP:20260426T000055Z
URL:https://business.chambermanitowoccounty.org/events/details/love-bowls-13718
END:VEVENT

END:VCALENDAR
