BEGIN:VCALENDAR
VERSION:2.0
PRODID:-//ChamberMaster//Event Calendar 2.0//EN
METHOD:PUBLISH
X-PUBLISHED-TTL:P3D
REFRESH-INTERVAL:P3D
CALSCALE:GREGORIAN
BEGIN:VEVENT
DTSTART:20190129T180000Z
DTEND:20190129T190000Z
X-MICROSOFT-CDO-ALLDAYEVENT:FALSE
SUMMARY:Lunch & Learn: Content Creation
DESCRIPTION:Lunch & Learn - Content Creation\n\n\n\nJoin a stellar group of Manitowoc County marketing professionals for an open\, relaxed and thought-provoking panel discussion focused around the topic - content creation. From what to include on your website\, to what to post on your social media outlets and all the questions in between. \n\n\n\nWe can answer questions like:\n\nWhat to Expect?\n\nWhat type of content should we create?\n\nWhat difference between content created for different media outlets?\n\nWhy is it important to create content\, and then what?\n\n\n\nGet your marketing questions answered...nothing is off limits! Listen to real-world marketing experiences\, trends and thoughts!\n\n\n\n\n\nPresenters Bios:\n\nMichael Farley - Marketing Director\; UnitedOne Credit Union\n\n    Currently the Marketing Director with UnitedOne Credit Union in Manitowoc. Michael is originally from Davenport\, Iowa and has a BA in Communications from the University of Northern Iowa. He has spent the last 10 years of his career working in the Des Moines\, Iowa Market. A strategic marketing professional with years of experience in credit union marketing\, public relations and business development. Utlizing the unique position of credit unions to develop and implement successful campaigns for the growth of the credit union and its members. \n\n\n\nGaby Cappaert - Marketing Coordinator\; Engaged Marketing Co. \n\n    Marketing concepts\, building relationships and community involvement are a few things Gaby is truley passionate about. Gaby is a very eager marketing professional that enjoys storytelling\, attaining marketing goals and delivering real results! As a marketing coordinator at Engaged Marketing Co.\, Gaby is responsible for impelementing social media management\, website design\, graphic design and marketing strategy projects with clients from start to finish. \n\n\n\nTyler Freitag - Marketing Coordinator\; Shoreline Credit Union\n\n    Tyler graduated in May of 2017 with honors from Lakeshore Technical College with a Associate's Degree in Marekting and a Sales Rep Technical Diploma. Since 2017\, Tyler has served as a Marketing Coordinator for Shoreline Credit Union. His current responsibilites include developing content for digital\, print and social media communications for the credit union. He is proficient at creating materials using the Adobe Suite for all marketing channels and manages hundreds of projects each year - inclduing participation in the marketing management of many local events and charities sponsored by Shoreline.
X-ALT-DESC;FMTTYPE=text/html:<span style="font-size:18px\;"><span style="font-family:comic sans ms\;"><u><strong>Lunch &amp\; Learn - Content Creation</strong></u></span></span><br />\n<br />\n<em><span style="font-size: 14px\;">Join a stellar group of Manitowoc County marketing professionals for an open\, relaxed and thought-provoking panel discussion focused around the topic - content creation. From what to include on your website\, to what to post on your social media outlets and all the questions in between.&nbsp\;<br />\n<br />\nWe can answer questions like:<br />\nWhat to Expect?<br />\nWhat type of content should we create?<br />\nWhat difference between content created for different media outlets?<br />\nWhy is it important to create content\, and then what?</span></em><br />\n<br />\n<span style="font-size:14px\;"><em>Get your marketing questions answered...nothing is off limits! Listen to real-world marketing experiences\, trends and thoughts!</em></span><br />\n<br />\n<br />\nPresenters Bios:<br />\n<strong>Michael Farley - <em>Marketing Director\; UnitedOne Credit Union</em></strong><br />\n&nbsp\;&nbsp\;&nbsp\;&nbsp\;Currently the Marketing Director with UnitedOne Credit Union in Manitowoc. Michael is originally from Davenport\, Iowa and has a BA in Communications from the University of Northern Iowa. He has spent the last 10 years of his career working in the Des Moines\, Iowa Market. A strategic marketing professional with years of experience in credit union marketing\, public relations and business development. Utlizing the unique position of credit unions to develop and implement successful campaigns for the growth of the credit union and its members.&nbsp\;<br />\n<br />\n<strong>Gaby Cappaert - <em>Marketing Coordinator\; Engaged Marketing Co.&nbsp\;</em></strong><br />\n&nbsp\;&nbsp\;&nbsp\;&nbsp\;Marketing concepts\, building relationships and community involvement are a few things Gaby is truley passionate about. Gaby is a very eager marketing professional that enjoys storytelling\, attaining marketing goals and delivering real results! As a marketing coordinator at Engaged Marketing Co.\, Gaby is responsible for impelementing social media management\, website design\, graphic design and marketing strategy projects with clients from start to finish.&nbsp\;<br />\n<br />\n<strong>Tyler Freitag</strong> <em><strong>- Marketing Coordinator\; Shoreline Credit Union</strong></em><br />\n&nbsp\; &nbsp\; Tyler graduated in May of 2017 with honors from Lakeshore Technical College with a Associate&#39\;s Degree in Marekting and a Sales Rep Technical Diploma. Since 2017\, Tyler has served as a Marketing Coordinator for Shoreline Credit Union. His current responsibilites include developing content for digital\, print and social media communications for the credit union. He is proficient at creating materials using the Adobe Suite for all marketing channels and manages hundreds of projects each year - inclduing participation in the marketing management of many local events and charities sponsored by Shoreline.&nbsp\;<br />\n&nbsp\;
LOCATION:Lakeshore Technical College- Manitowoc Campus 3733 Dewey St.\, Manitowoc Lunch will be provided.
UID:e.361.13738
SEQUENCE:3
DTSTAMP:20260426T010552Z
URL:https://business.chambermanitowoccounty.org/events/details/lunch-learn-content-creation-13738
END:VEVENT

END:VCALENDAR
