BEGIN:VCALENDAR
VERSION:2.0
PRODID:-//ChamberMaster//Event Calendar 2.0//EN
METHOD:PUBLISH
X-PUBLISHED-TTL:P3D
REFRESH-INTERVAL:P3D
CALSCALE:GREGORIAN
BEGIN:VEVENT
DTSTART:20181202T013000Z
DTEND:20181202T030000Z
X-MICROSOFT-CDO-ALLDAYEVENT:FALSE
SUMMARY:LWE "Festival of Christmas"
DESCRIPTION:By popular demand the LWE will present a traditional program this year\, with music by James Curnow\, Rejouissance\, and Sergei Prokofiev\, Troika. Maestro Michael J. Arendt will conduct music by Robert Smith\, Christmas Declaration. The concert will feature vocals by Kim Hofmann and David Bourgeois\, our traditional sing-along and narration by TV host Tom Zalaski.
X-ALT-DESC;FMTTYPE=text/html:By popular demand the LWE will present a traditional program this year\, with music by James Curnow\, Rejouissance\, and Sergei Prokofiev\, Troika. Maestro Michael J. Arendt will conduct music by Robert Smith\, Christmas Declaration. The concert will feature vocals by Kim Hofmann and David Bourgeois\, our traditional sing-along and narration by TV host Tom Zalaski.
LOCATION:Capitol Civic Centre\, Manitowoc\, WI
UID:e.361.13601
SEQUENCE:3
DTSTAMP:20260426T022320Z
URL:https://business.chambermanitowoccounty.org/events/details/lwe-festival-of-christmas-13601
END:VEVENT

END:VCALENDAR
