BEGIN:VCALENDAR
VERSION:2.0
PRODID:-//ChamberMaster//Event Calendar 2.0//EN
METHOD:PUBLISH
X-PUBLISHED-TTL:P3D
REFRESH-INTERVAL:P3D
CALSCALE:GREGORIAN
BEGIN:VEVENT
DTSTART:20220116T210000Z
DTEND:20220116T230000Z
X-MICROSOFT-CDO-ALLDAYEVENT:FALSE
SUMMARY:LWE & LBB Family “Movie Night”
DESCRIPTION:Lakeshore Wind Ensemble and Lakeshore Big Band: \nFamily "Movie Night"\nSunday\, January 16\, 2022\, 3:00 pm\n\nAssistant Conductor Chris Woller\n\nThe Biggest of the Big Bands is back with the wind ensemble and big band performing together on stage. Enjoy a Sunday afternoon at the Capitol with movie music favorites the whole family will love and recognize from Moana\, Hunger Games\, Frozen 2\, The Greatest Showman\, The Lego Movie\, Back to the Future\, Hamilton\, and even some video game music! Kids are invited to wear their jammies to this fun\, family friendly concert.\n\n \nTickets\n\nSeason tickets\, individual concert tickets and the seating chart are available at the CCC Box Office during business hours or online at cccshows.org. Individual tickets for adult's main floor and mezzanine are $16\; student and balcony seating are $9 plus fees and tax. For Season ticket package rates click here.\n\nPlease contact the CCC Box Office for more information or follow the link to their website to purchase tickets and view the seating chart.\n\nCapitol Civic Centre\n\n913 South 8th Street\n\nManitowoc\, Wisconsin\, 54220\n\n920-683-2184\n\nwww.cccshows.org
X-ALT-DESC;FMTTYPE=text/html:<span style="color: rgb(41\, 47\, 51)\; font-family: -apple-system\, BlinkMacSystemFont\, &quot\;Segoe UI&quot\;\, Roboto\, &quot\;Helvetica Neue&quot\;\, Arial\, sans-serif\, &quot\;Apple Color Emoji&quot\;\, &quot\;Segoe UI Emoji&quot\;\, &quot\;Segoe UI Symbol&quot\;\; font-size: 16px\; background-color: rgb(255\, 255\, 255)\;">Lakeshore Wind Ensemble and Lakeshore Big Band:&nbsp\;</span>\n<h5 class="text-content" style="box-sizing: border-box\; font-family: Montserrat\, -apple-system\, BlinkMacSystemFont\, &quot\;Segoe UI&quot\;\, Roboto\, &quot\;Helvetica Neue&quot\;\, Arial\, sans-serif\, &quot\;Apple Color Emoji&quot\;\, &quot\;Segoe UI Emoji&quot\;\, &quot\;Segoe UI Symbol&quot\;\; font-weight: 700\; color: rgb(76\, 76\, 76)\; margin: 0px 0px 0.5rem\; font-size: 1.25rem\; padding: 0px\; border: 0px\; font-variant-numeric: inherit\; font-variant-east-asian: inherit\; font-stretch: inherit\; vertical-align: baseline\;">Family &ldquo\;Movie Night&rdquo\;</h5>\n<strong style="box-sizing: border-box\; margin: 0px\; padding: 0px\; border: 0px\; font-variant-numeric: inherit\; font-variant-east-asian: inherit\; font-stretch: inherit\; font-size: 16px\; line-height: inherit\; font-family: -apple-system\, BlinkMacSystemFont\, &quot\;Segoe UI&quot\;\, Roboto\, &quot\;Helvetica Neue&quot\;\, Arial\, sans-serif\, &quot\;Apple Color Emoji&quot\;\, &quot\;Segoe UI Emoji&quot\;\, &quot\;Segoe UI Symbol&quot\;\; vertical-align: baseline\; color: rgb(41\, 47\, 51)\;">Sunday\, January 16\, 2022\, 3:00 pm</strong><br style="box-sizing: border-box\; color: rgb(41\, 47\, 51)\; font-family: -apple-system\, BlinkMacSystemFont\, &quot\;Segoe UI&quot\;\, Roboto\, &quot\;Helvetica Neue&quot\;\, Arial\, sans-serif\, &quot\;Apple Color Emoji&quot\;\, &quot\;Segoe UI Emoji&quot\;\, &quot\;Segoe UI Symbol&quot\;\; font-size: 16px\;" />\n<span style="color: rgb(41\, 47\, 51)\; font-family: -apple-system\, BlinkMacSystemFont\, &quot\;Segoe UI&quot\;\, Roboto\, &quot\;Helvetica Neue&quot\;\, Arial\, sans-serif\, &quot\;Apple Color Emoji&quot\;\, &quot\;Segoe UI Emoji&quot\;\, &quot\;Segoe UI Symbol&quot\;\; font-size: 16px\;">Assistant Conductor Chris Woller</span><br style="box-sizing: border-box\; color: rgb(41\, 47\, 51)\; font-family: -apple-system\, BlinkMacSystemFont\, &quot\;Segoe UI&quot\;\, Roboto\, &quot\;Helvetica Neue&quot\;\, Arial\, sans-serif\, &quot\;Apple Color Emoji&quot\;\, &quot\;Segoe UI Emoji&quot\;\, &quot\;Segoe UI Symbol&quot\;\; font-size: 16px\;" />\n<span style="color: rgb(41\, 47\, 51)\; font-family: -apple-system\, BlinkMacSystemFont\, &quot\;Segoe UI&quot\;\, Roboto\, &quot\;Helvetica Neue&quot\;\, Arial\, sans-serif\, &quot\;Apple Color Emoji&quot\;\, &quot\;Segoe UI Emoji&quot\;\, &quot\;Segoe UI Symbol&quot\;\; font-size: 16px\;">The Biggest of the Big Bands is back with the wind ensemble and big band performing together on stage. Enjoy a&nbsp\;</span><strong style="box-sizing: border-box\; margin: 0px\; padding: 0px\; border: 0px\; font-variant-numeric: inherit\; font-variant-east-asian: inherit\; font-stretch: inherit\; font-size: 16px\; line-height: inherit\; font-family: -apple-system\, BlinkMacSystemFont\, &quot\;Segoe UI&quot\;\, Roboto\, &quot\;Helvetica Neue&quot\;\, Arial\, sans-serif\, &quot\;Apple Color Emoji&quot\;\, &quot\;Segoe UI Emoji&quot\;\, &quot\;Segoe UI Symbol&quot\;\; vertical-align: baseline\; color: rgb(41\, 47\, 51)\;">Sunday afternoon</strong><span style="color: rgb(41\, 47\, 51)\; font-family: -apple-system\, BlinkMacSystemFont\, &quot\;Segoe UI&quot\;\, Roboto\, &quot\;Helvetica Neue&quot\;\, Arial\, sans-serif\, &quot\;Apple Color Emoji&quot\;\, &quot\;Segoe UI Emoji&quot\;\, &quot\;Segoe UI Symbol&quot\;\; font-size: 16px\;">&nbsp\;at the Capitol with movie music favorites the whole family will love and recognize from&nbsp\;</span><em style="box-sizing: border-box\; margin: 0px\; padding: 0px\; border: 0px\; font-variant-numeric: inherit\; font-variant-east-asian: inherit\; font-stretch: inherit\; font-size: 16px\; line-height: inherit\; font-family: -apple-system\, BlinkMacSystemFont\, &quot\;Segoe UI&quot\;\, Roboto\, &quot\;Helvetica Neue&quot\;\, Arial\, sans-serif\, &quot\;Apple Color Emoji&quot\;\, &quot\;Segoe UI Emoji&quot\;\, &quot\;Segoe UI Symbol&quot\;\; vertical-align: baseline\; color: rgb(41\, 47\, 51)\;">Moana\, Hunger Games\, Frozen 2\, The Greatest Showman\, The Lego Movie\, Back to the Future\, Hamilton\,</em><span style="color: rgb(41\, 47\, 51)\; font-family: -apple-system\, BlinkMacSystemFont\, &quot\;Segoe UI&quot\;\, Roboto\, &quot\;Helvetica Neue&quot\;\, Arial\, sans-serif\, &quot\;Apple Color Emoji&quot\;\, &quot\;Segoe UI Emoji&quot\;\, &quot\;Segoe UI Symbol&quot\;\; font-size: 16px\;">&nbsp\;and even some video game music! Kids are invited to wear their jammies to this fun\, family friendly concert.</span><br />\n&nbsp\;\n<h2 style="box-sizing: border-box\; border: 0px\; font-size: 2rem\; font-weight: 700\; margin: 0px 0px 0.5rem\; outline: 0px\; padding: 0px\; vertical-align: baseline\; clear: both\; color: rgb(76\, 76\, 76)\; line-height: 1.3\; background-color: rgb(245\, 245\, 245)\; font-family: Montserrat\, -apple-system\, BlinkMacSystemFont\, &quot\;Segoe UI&quot\;\, Roboto\, &quot\;Helvetica Neue&quot\;\, Arial\, sans-serif\, &quot\;Apple Color Emoji&quot\;\, &quot\;Segoe UI Emoji&quot\;\, &quot\;Segoe UI Symbol&quot\;\; font-variant-numeric: inherit\; font-variant-east-asian: inherit\; font-stretch: inherit\;">Tickets</h2>\n\n<p style="box-sizing: border-box\; border: 0px\; font-size: 16px\; margin: 0px 0px 2rem\; outline: 0px\; padding: 0px\; vertical-align: baseline\; color: rgb(41\, 47\, 51)\; font-family: -apple-system\, BlinkMacSystemFont\, &quot\;Segoe UI&quot\;\, Roboto\, &quot\;Helvetica Neue&quot\;\, Arial\, sans-serif\, &quot\;Apple Color Emoji&quot\;\, &quot\;Segoe UI Emoji&quot\;\, &quot\;Segoe UI Symbol&quot\;\; background-color: rgb(245\, 245\, 245)\; font-variant-numeric: inherit\; font-variant-east-asian: inherit\; font-stretch: inherit\; line-height: 1.7\;">Season tickets\, individual concert tickets and the seating chart are available at the CCC Box Office during business hours or online at cccshows.org. Individual tickets for adult&rsquo\;s main floor and mezzanine are $16\; student and balcony seating are $9 plus fees and tax. For Season ticket package rates&nbsp\;<span style="box-sizing: border-box\; border: 0px\; font-style: inherit\; font-weight: bolder\; margin: 0px\; outline: 0px\; padding: 0px\; vertical-align: baseline\;"><a href="https://www.uwgb.edu/lakeshore-wind-ensemble/concerts/" style="box-sizing: border-box\; border: 0px\; font-style: inherit\; font-weight: inherit\; margin: 0px\; outline: 0px\; padding: 0px\; vertical-align: baseline\; background-color: transparent\; text-decoration-line: none\; color: rgb(34\, 72\, 132)\; transition: all 0.2s linear 0s\; overflow-wrap: break-word\;">click here</a></span>.</p>\n\n<p style="box-sizing: border-box\; border: 0px\; font-size: 16px\; margin: 0px 0px 2rem\; outline: 0px\; padding: 0px\; vertical-align: baseline\; color: rgb(41\, 47\, 51)\; font-family: -apple-system\, BlinkMacSystemFont\, &quot\;Segoe UI&quot\;\, Roboto\, &quot\;Helvetica Neue&quot\;\, Arial\, sans-serif\, &quot\;Apple Color Emoji&quot\;\, &quot\;Segoe UI Emoji&quot\;\, &quot\;Segoe UI Symbol&quot\;\; background-color: rgb(245\, 245\, 245)\; font-variant-numeric: inherit\; font-variant-east-asian: inherit\; font-stretch: inherit\; line-height: 1.7\;">Please contact the CCC Box Office for more information or follow the link to their&nbsp\;<a href="https://cccshows.org/" style="box-sizing: border-box\; border: 0px\; font: inherit\; margin: 0px\; outline: 0px\; padding: 0px\; vertical-align: baseline\; background-color: transparent\; text-decoration-line: none\; color: rgb(16\, 125\, 58)\; transition: all 0.2s linear 0s\; overflow-wrap: break-word\;">website</a>&nbsp\;to purchase tickets and view the seating chart.<br style="box-sizing: border-box\;" />\nCapitol Civic Centre<br style="box-sizing: border-box\;" />\n913 South 8th Street<br style="box-sizing: border-box\;" />\nManitowoc\, Wisconsin\, 54220<br style="box-sizing: border-box\;" />\n920-683-2184<br style="box-sizing: border-box\;" />\n<a href="http://www.cccshows.org/" style="box-sizing: border-box\; border: 0px\; font: inherit\; margin: 0px\; outline: 0px\; padding: 0px\; vertical-align: baseline\; background-color: transparent\; text-decoration-line: none\; color: rgb(16\, 125\, 58)\; transition: all 0.2s linear 0s\; overflow-wrap: break-word\;">www.cccshows.org</a></p>\n
LOCATION:Capitol Civic Centre 913 South 8th Street Manitowoc\, Wisconsin\, 54220
UID:e.361.16464
SEQUENCE:3
DTSTAMP:20260422T172956Z
URL:https://business.chambermanitowoccounty.org/events/details/lwe-lbb-family-movie-night-16464
END:VEVENT

END:VCALENDAR
