BEGIN:VCALENDAR
VERSION:2.0
PRODID:-//ChamberMaster//Event Calendar 2.0//EN
METHOD:PUBLISH
X-PUBLISHED-TTL:P3D
REFRESH-INTERVAL:P3D
CALSCALE:GREGORIAN
BEGIN:VEVENT
DTSTART:20190120T013000Z
DTEND:20190120T030000Z
X-MICROSOFT-CDO-ALLDAYEVENT:FALSE
SUMMARY:Lwe & LBB "The Best of Broadway"
DESCRIPTION:The Lakeshore Wind Ensemble and Lakeshore Big Band will feature hits of Broadway\, including music from An American in Paris by Gershwin and Rogers and Hammerstein's The Sound of Music.
X-ALT-DESC;FMTTYPE=text/html:The Lakeshore Wind Ensemble and Lakeshore Big Band will feature hits of Broadway\, including music from An American in Paris by Gershwin and Rogers and Hammerstein&#39\;s The Sound of Music.
LOCATION:Capitol Civic Centre\, Manitowoc\, WI
UID:e.361.13603
SEQUENCE:3
DTSTAMP:20260426T010840Z
URL:https://business.chambermanitowoccounty.org/events/details/lwe-lbb-the-best-of-broadway-13603
END:VEVENT

END:VCALENDAR
