BEGIN:VCALENDAR
VERSION:2.0
PRODID:-//ChamberMaster//Event Calendar 2.0//EN
METHOD:PUBLISH
X-PUBLISHED-TTL:P3D
REFRESH-INTERVAL:P3D
CALSCALE:GREGORIAN
BEGIN:VEVENT
DTSTART:20221011T131500Z
DTEND:20221011T190000Z
X-MICROSOFT-CDO-ALLDAYEVENT:FALSE
SUMMARY:Made Here CONSTRUCTION Bus Tour
DESCRIPTION:Made Here CONSTRUCTION Bus Tour is designed to give kids the opportunity to learn more about construction and construction-related career opportunities\, by visiting different facilities in Manitowoc County.\n\n\n\nClick here  for event flyer.\n\n\n\nThe Made Here CONSTRUCTION Bus Tour is an event coordinated in partnership between the Manitowoc County Home Builders Association and The Chamber of Manitowoc County.
X-ALT-DESC;FMTTYPE=text/html:Made Here CONSTRUCTION Bus Tour is designed to give kids the opportunity to learn more about construction and construction-related career opportunities\, by visiting different facilities in Manitowoc County.<br />\n<br />\n<strong><a href="https://chambermaster.blob.core.windows.net/userfiles/UserFiles/chambers/361/File/MCPIE/Made_Here_bus_tour/2022/MadeHereCONSTRUCTIONBusTourFlyer2022.pdf">Click here</a> </strong> for event flyer.<br />\n<br />\nThe Made Here CONSTRUCTION Bus Tour is an event coordinated in partnership between the Manitowoc County Home Builders Association and The Chamber of Manitowoc County.&nbsp\;
LOCATION:Bussing will be provided for students. More details about pickup/drop offs will be provided closer to the event.
UID:e.361.18030
SEQUENCE:3
DTSTAMP:20260420T033141Z
URL:https://business.chambermanitowoccounty.org/events/details/made-here-construction-bus-tour-18030
END:VEVENT

END:VCALENDAR
