BEGIN:VCALENDAR
VERSION:2.0
PRODID:-//ChamberMaster//Event Calendar 2.0//EN
METHOD:PUBLISH
X-PUBLISHED-TTL:P3D
REFRESH-INTERVAL:P3D
CALSCALE:GREGORIAN
BEGIN:VEVENT
DTSTART:20221012T230000Z
DTEND:20221013T003000Z
X-MICROSOFT-CDO-ALLDAYEVENT:FALSE
SUMMARY:Manitowoc County Genealogica Society Meeting & Program
DESCRIPTION:Manitowoc County Genealogical Society Meeting & Program Wednesday\, October 12\, 2022 at 6:00pm in Balkansky Room A\, Manitowoc Public Library\, 707 Quay Street\, Manitowoc\, WI Using Your Library Card for Genealogy with Katie Stilp\, local History Librarian at the Appleton Public Library\, will be sharing some of her knowledge of what genealogy resources you can find at your local library\, with an emphasis on online databases and tips for using them. Our meetings are free and open to the public. Hope to see you there! We also offer Genealogy Help on Tuesdays from 3pm-5pm in the Local History Area\, Manitowoc Public Library. Website: https://manitowoccountygenealogicalsociety.wordpress.com/
X-ALT-DESC;FMTTYPE=text/html:Manitowoc County Genealogical Society Meeting &amp\; Program Wednesday\, October 12\, 2022 at 6:00pm in Balkansky Room A\, Manitowoc Public Library\, 707 Quay Street\, Manitowoc\, WI Using Your Library Card for Genealogy with Katie Stilp\, local History Librarian at the Appleton Public Library\, will be sharing some of her knowledge of what genealogy resources you can find at your local library\, with an emphasis on online databases and tips for using them. Our meetings are free and open to the public. Hope to see you there! We also offer Genealogy Help on Tuesdays from 3pm-5pm in the Local History Area\, Manitowoc Public Library. Website: https://manitowoccountygenealogicalsociety.wordpress.com/
LOCATION:Balkansky Room A\, Manitowoc Public Library\, 707 Quay St.\, Manitowoc\, WI
UID:e.361.18053
SEQUENCE:3
DTSTAMP:20260420T050540Z
URL:https://business.chambermanitowoccounty.org/events/details/manitowoc-county-genealogica-society-meeting-program-18053
END:VEVENT

END:VCALENDAR
