BEGIN:VCALENDAR
VERSION:2.0
PRODID:-//ChamberMaster//Event Calendar 2.0//EN
METHOD:PUBLISH
X-PUBLISHED-TTL:P3D
REFRESH-INTERVAL:P3D
CALSCALE:GREGORIAN
BEGIN:VEVENT
DTSTART:20190213T000000Z
DTEND:20190213T014500Z
X-MICROSOFT-CDO-ALLDAYEVENT:FALSE
SUMMARY:Manitowoc County Genealogical Society Meeting
DESCRIPTION:February Manitowoc County Genealogical Society Meeting Tuesday\, February 12\, 2019 at 6:00 p.m. Balkansky Room at Manitowoc Public Library\, 707 Quay St.\, Manitowoc\, WI. Program: "Computerized Organization of Your Genealogy Files"\, with Scott Faust. The public is welcome. Also\, free Genealogy help in the local history area of Manitowoc Public Library\, Tuesdays from 3pm-5pm & at "Genealogy Club" at the Lester Public Library\, Two Rivers\, WI Thursdays\, Jan. 17th & 31st 10:15am - 11:45am. (We do at times cancel our meetings due to inclement weather. Please check with our website for possible cancellations\, or listen to the local radio stations.) https://manitowoccountygenealogicalsociety.wordpress.com/
X-ALT-DESC;FMTTYPE=text/html:February Manitowoc County Genealogical Society Meeting Tuesday\, February 12\, 2019 at 6:00 p.m. Balkansky Room at Manitowoc Public Library\, 707 Quay St.\, Manitowoc\, WI. Program: &quot\;Computerized Organization of Your Genealogy Files&quot\;\, with Scott Faust. The public is welcome. Also\, free Genealogy help in the local history area of Manitowoc Public Library\, Tuesdays from 3pm-5pm &amp\; at &ldquo\;Genealogy Club&rdquo\; at the Lester Public Library\, Two Rivers\, WI Thursdays\, Jan. 17th &amp\; 31st 10:15am - 11:45am. (We do at times cancel our meetings due to inclement weather. Please check with our website for possible cancellations\, or listen to the local radio stations.) https://manitowoccountygenealogicalsociety.wordpress.com/
LOCATION:Manitowoc Public Library\, 707 Quay St.\, Manitowoc\, WI
UID:e.361.13752
SEQUENCE:3
DTSTAMP:20260426T000924Z
URL:https://business.chambermanitowoccounty.org/events/details/manitowoc-county-genealogical-society-meeting-02-12-2019-13752
END:VEVENT

END:VCALENDAR
