BEGIN:VCALENDAR
VERSION:2.0
PRODID:-//ChamberMaster//Event Calendar 2.0//EN
METHOD:PUBLISH
X-PUBLISHED-TTL:P3D
REFRESH-INTERVAL:P3D
CALSCALE:GREGORIAN
BEGIN:VEVENT
DTSTART:20190312T230000Z
DTEND:20190313T003000Z
X-MICROSOFT-CDO-ALLDAYEVENT:FALSE
SUMMARY:Manitowoc County Genealogical Society Meeting
DESCRIPTION:March Manitowoc County Genealogical Society Meeting Tuesday\, March 12\, 2019 at 6:00 p.m.\, in the Balkansky Room\, Manitowoc Public Library\, 707 Quay St.\, Manitowoc\, WI. Program: "Federal Government Publications for Genealogical Research"\, with Anne Kasuboski\, MLIS. The public is welcome. (We do cancel our meetings due to inclement weather. Please check with this website for possible cancellations.) Also Genealogy Help on Tuesdays\, in local history area of Manitowoc Public Library. "Genealogy Club" at Lester Public Library\, 1001 Adams St.\, Two Rivers\, WI. Thursday\, February 28th\, March 14th & 28th\, 10:15 a.m. 1 1:45 a.m.
X-ALT-DESC;FMTTYPE=text/html:March Manitowoc County Genealogical Society Meeting Tuesday\, March 12\, 2019 at 6:00 p.m.\, in the Balkansky Room\, Manitowoc Public Library\, 707 Quay St.\, Manitowoc\, WI. Program: &ldquo\;Federal Government Publications for Genealogical Research&rdquo\;\, with Anne Kasuboski\, MLIS. The public is welcome. (We do cancel our meetings due to inclement weather. Please check with this website for possible cancellations.) Also Genealogy Help on Tuesdays\, in local history area of Manitowoc Public Library. &ldquo\;Genealogy Club&rdquo\; at Lester Public Library\, 1001 Adams St.\, Two Rivers\, WI. Thursday\, February 28th\, March 14th &amp\; 28th\, 10:15 a.m.&mdash\;1 1:45 a.m.
LOCATION:Balkansky Room\, Manitowoc Public Library\, 707 Quay St.\, Manitowoc\, WI
UID:e.361.13799
SEQUENCE:3
DTSTAMP:20260425T225617Z
URL:https://business.chambermanitowoccounty.org/events/details/manitowoc-county-genealogical-society-meeting-03-12-2019-13799
END:VEVENT

END:VCALENDAR
