BEGIN:VCALENDAR
VERSION:2.0
PRODID:-//ChamberMaster//Event Calendar 2.0//EN
METHOD:PUBLISH
X-PUBLISHED-TTL:P3D
REFRESH-INTERVAL:P3D
CALSCALE:GREGORIAN
BEGIN:VEVENT
DTSTART:20190409T230000Z
DTEND:20190410T003000Z
X-MICROSOFT-CDO-ALLDAYEVENT:FALSE
SUMMARY:Manitowoc County Genealogical Society Meeting
DESCRIPTION:The Manitowoc County Genealogical Society will meet Tuesday\, April 9\, 2019 at 6:00 p.m. in the Balkansky Room at Manitowoc Public Library\, 707 Quay St.\, Manitowoc\, WI. The program will be "It's All Online! Or Is It!" with Lori Bessler\, genealogy and local history specialist\, Wisconsin Historical Society's Library\, Archives and Museum Collections division. Learn about valuable web sites\, making the most of your online searches\, and how to organize your online research. If you're interested in researching your family this is a program not to miss. The public is welcome to attend. We also offer genealogy help on Tuesdays from 3:00 p.m. to 5:00 p.m. in the Manitowoc History area of the Manitowoc Public Library.
X-ALT-DESC;FMTTYPE=text/html:The Manitowoc County Genealogical Society will meet Tuesday\, April 9\, 2019 at 6:00 p.m. in the Balkansky Room at Manitowoc Public Library\, 707 Quay St.\, Manitowoc\, WI. The program will be &ldquo\;It&rsquo\;s All Online! Or Is It!&rdquo\; with Lori Bessler\, genealogy and local history specialist\, Wisconsin Historical Society&rsquo\;s Library\, Archives and Museum Collections division. Learn about valuable web sites\, making the most of your online searches\, and how to organize your online research. If you&rsquo\;re interested in researching your family this is a program not to miss. The public is welcome to attend. We also offer genealogy help on Tuesdays from 3:00 p.m. to 5:00 p.m. in the Manitowoc History area of the Manitowoc Public Library.
LOCATION:Balkansky Room\, Manitowoc Public Library\, 707 Quay St.\, Manitowoc\, WI
UID:e.361.14098
SEQUENCE:3
DTSTAMP:20260425T225559Z
URL:https://business.chambermanitowoccounty.org/events/details/manitowoc-county-genealogical-society-meeting-04-09-2019-14098
END:VEVENT

END:VCALENDAR
