BEGIN:VCALENDAR
VERSION:2.0
PRODID:-//ChamberMaster//Event Calendar 2.0//EN
METHOD:PUBLISH
X-PUBLISHED-TTL:P3D
REFRESH-INTERVAL:P3D
CALSCALE:GREGORIAN
BEGIN:VEVENT
DTSTART:20190514T230000Z
DTEND:20190515T003000Z
X-MICROSOFT-CDO-ALLDAYEVENT:FALSE
SUMMARY:Manitowoc County Genealogical Society Meeting
DESCRIPTION:Manitowoc County Genealogical Society Meeting Tuesday\, May 14th\, 2019 at 6pm\, Balkansky Room\, Manitowoc Public Library\, 707 Quay St.\, Manitowoc\, WI Program: "Computerized Organization of Your Genealogy Files"\, with Scott Faust\, rescheduled from our February 12th meeting\, plus Elections and Pie Social. https://manitowoccountygenealogicalsociety.wordpress.com/
X-ALT-DESC;FMTTYPE=text/html:Manitowoc County Genealogical Society Meeting Tuesday\, May 14th\, 2019 at 6pm\, Balkansky Room\, Manitowoc Public Library\, 707 Quay St.\, Manitowoc\, WI Program: &ldquo\;Computerized Organization of Your Genealogy Files&rdquo\;\, with Scott Faust\, rescheduled from our February 12th meeting\, plus Elections and Pie Social. https://manitowoccountygenealogicalsociety.wordpress.com/
LOCATION:Balkansky Room\, Manitowoc Public Library\, 707 Quay St.\, Manitowoc\, WI
UID:e.361.14154
SEQUENCE:3
DTSTAMP:20260425T203350Z
URL:https://business.chambermanitowoccounty.org/events/details/manitowoc-county-genealogical-society-meeting-05-14-2019-14154
END:VEVENT

END:VCALENDAR
