BEGIN:VCALENDAR
VERSION:2.0
PRODID:-//ChamberMaster//Event Calendar 2.0//EN
METHOD:PUBLISH
X-PUBLISHED-TTL:P3D
REFRESH-INTERVAL:P3D
CALSCALE:GREGORIAN
BEGIN:VEVENT
DTSTART:20190910T230000Z
DTEND:20190911T004500Z
X-MICROSOFT-CDO-ALLDAYEVENT:FALSE
SUMMARY:Manitowoc County Genealogical Society Meeting
DESCRIPTION:"The Manitowoc County Genealogical Society will meet at 6:00 p.m. Tuesday\, September 10\, 2019 in the Board Room at Manitowoc Public Library\, 707 Quay St.\, Manitowoc\, WI. Our program for the evening will be "London Pearlies"\, with Laurie Shawhan. What started out in the mid 1800's in London as a sales gimmick evolved into an extraordinary charitable organization. "London Pearlies" always make a striking and well-recognized showing at many functions throughout London and thereabout. Have you seen Mary Poppins ? Come learn about London's famous society. MCGS also offers genealogy help on Tuesdays from 3:00 p.m. to 5:00 p.m. in the Local History Area of the Manitowoc Public Library."
X-ALT-DESC;FMTTYPE=text/html:&quot\;The Manitowoc County Genealogical Society will meet at 6:00 p.m. Tuesday\, September 10\, 2019 in the Board Room at Manitowoc Public Library\, 707 Quay St.\, Manitowoc\, WI. Our program for the evening will be &ldquo\;London Pearlies&rdquo\;\, with Laurie Shawhan. What started out in the mid 1800&#39\;s in London as a sales gimmick evolved into an extraordinary charitable organization. &quot\;London Pearlies&quot\; always make a striking and well-recognized showing at many functions throughout London and thereabout. Have you seen Mary Poppins ? Come learn about London&rsquo\;s famous society. MCGS also offers genealogy help on Tuesdays from 3:00 p.m. to 5:00 p.m. in the Local History Area of the Manitowoc Public Library.&quot\;
LOCATION:Board Room\, Manitowoc Public Library\, 707 Quay St.\, Manitowoc\, WI
UID:e.361.14714
SEQUENCE:3
DTSTAMP:20260425T155703Z
URL:https://business.chambermanitowoccounty.org/events/details/manitowoc-county-genealogical-society-meeting-09-10-2019-14714
END:VEVENT

END:VCALENDAR
