BEGIN:VCALENDAR
VERSION:2.0
PRODID:-//ChamberMaster//Event Calendar 2.0//EN
METHOD:PUBLISH
X-PUBLISHED-TTL:P3D
REFRESH-INTERVAL:P3D
CALSCALE:GREGORIAN
BEGIN:VEVENT
DTSTART:20191008T230000Z
DTEND:20191009T004500Z
X-MICROSOFT-CDO-ALLDAYEVENT:FALSE
SUMMARY:Manitowoc County Genealogical Society Meeting
DESCRIPTION:The Manitowoc County Genealogical Society Meeting Tuesday\, October 8\, 2019 at 6:00pm in the Balkansky Room at Manitowoc Public Library\, 707 Quay St.\, Manitowoc\, WI. Our program centers around a small town\, and an intriguing mystery. Centerville holds title to one of the earliest murders in Manitowoc County. Join us as Kirsten Husband uncovers "The Centerville Sensation The Murder of 1851". MCGS also offers genealogy help on Tuesdays from 3:00 p.m. to 5:00 p.m. in the Local History Area of the Manitowoc Public Library." And "Genealogy Club" at Lester Library\, 1001 Adams St.\, Two Rivers\, WI. 10:15 a.m. - 11:45 a.m. Sept. 19: Getting Started with Genealogy & Oct. 10: Hidden Sources of Information http://www.lesterlibrary.org/programs-classes/adult-programs/antique-appraisals/
X-ALT-DESC;FMTTYPE=text/html:The Manitowoc County Genealogical Society Meeting Tuesday\, October 8\, 2019 at 6:00pm in the Balkansky Room at Manitowoc Public Library\, 707 Quay St.\, Manitowoc\, WI. Our program centers around a small town\, and an intriguing mystery. Centerville holds title to one of the earliest murders in Manitowoc County. Join us as Kirsten Husband uncovers &ldquo\;The Centerville Sensation&mdash\;The Murder of 1851&rdquo\;. MCGS also offers genealogy help on Tuesdays from 3:00 p.m. to 5:00 p.m. in the Local History Area of the Manitowoc Public Library.&quot\; And &ldquo\;Genealogy Club&rdquo\; at Lester Library\, 1001 Adams St.\, Two Rivers\, WI. 10:15 a.m. - 11:45 a.m. Sept. 19: Getting Started with Genealogy &amp\; Oct. 10: Hidden Sources of Information http://www.lesterlibrary.org/programs-classes/adult-programs/antique-appraisals/
LOCATION:Manitowoc Public Library\, 707 Quay St.\, Manitowoc\, WI
UID:e.361.14785
SEQUENCE:3
DTSTAMP:20260425T143507Z
URL:https://business.chambermanitowoccounty.org/events/details/manitowoc-county-genealogical-society-meeting-10-08-2019-14785
END:VEVENT

END:VCALENDAR
