BEGIN:VCALENDAR
VERSION:2.0
PRODID:-//ChamberMaster//Event Calendar 2.0//EN
METHOD:PUBLISH
X-PUBLISHED-TTL:P3D
REFRESH-INTERVAL:P3D
CALSCALE:GREGORIAN
BEGIN:VEVENT
DTSTART:20191113T000000Z
DTEND:20191113T014500Z
X-MICROSOFT-CDO-ALLDAYEVENT:FALSE
SUMMARY:Manitowoc County Genealogical Society Meeting
DESCRIPTION:Manitowoc County Genealogical Society Meeting\, Tuesday\, November 12\, 2019\, 6:00pm Program: "Finding Those Who Served: Military Genealogy" with Russell Horton of the Wisconsin Veteran's Museum. Russell Horton is the Reference & Outreach Archivist at the Wisconsin Veterans Museum\, where he helps researchers ranging from genealogists to professional historians learn about the stories of Wisconsin veterans. He will discuss the best methods and resources for researching the veteran in your family tree. Balkansky Room\, Manitowoc Public Library\, 707 Quay St.\, Manitowoc\, WI The Public is welcome.
X-ALT-DESC;FMTTYPE=text/html:Manitowoc County Genealogical Society Meeting\, Tuesday\, November 12\, 2019\, 6:00pm Program: &ldquo\;Finding Those Who Served: Military Genealogy&rdquo\; with Russell Horton of the Wisconsin Veteran&rsquo\;s Museum. Russell Horton is the Reference &amp\; Outreach Archivist at the Wisconsin Veterans Museum\, where he helps researchers ranging from genealogists to professional historians learn about the stories of Wisconsin veterans. He will discuss the best methods and resources for researching the veteran in your family tree. Balkansky Room\, Manitowoc Public Library\, 707 Quay St.\, Manitowoc\, WI The Public is welcome.
LOCATION:Balkansky Room\, Manitowoc Public Library\, 707 Quay St.\, Manitowoc\, WI
UID:e.361.14810
SEQUENCE:3
DTSTAMP:20260425T132014Z
URL:https://business.chambermanitowoccounty.org/events/details/manitowoc-county-genealogical-society-meeting-11-12-2019-14810
END:VEVENT

END:VCALENDAR
