BEGIN:VCALENDAR
VERSION:2.0
PRODID:-//ChamberMaster//Event Calendar 2.0//EN
METHOD:PUBLISH
X-PUBLISHED-TTL:P3D
REFRESH-INTERVAL:P3D
CALSCALE:GREGORIAN
BEGIN:VEVENT
DTSTART:20181114T000000Z
DTEND:20181114T013000Z
X-MICROSOFT-CDO-ALLDAYEVENT:FALSE
SUMMARY:Manitowoc County Genealogical Society Meeting
DESCRIPTION:November Manitowoc County Genealogical Society Meeting Tues.\, Nov. 13th at 6pm in the Balkansky Room\, Manitowoc Public Library\, 707 Quay St.\, Manitowoc\, WI Program: "A Look at Old German Records"\, with Karyl Rommelfanger. Now is your chance. Bring in a photocopy of an old German document and have some help translating it. (Please don't bring any original documents. They are too precious and irreplaceable.) Karyl holds degrees in German and History and has taught German in the public schools 36 years\, most of those years here in Manitowoc. She's a true wealth of information. Visitors Welcome!
X-ALT-DESC;FMTTYPE=text/html:November Manitowoc County Genealogical Society Meeting Tues.\, Nov. 13th at 6pm in the Balkansky Room\, Manitowoc Public Library\, 707 Quay St.\, Manitowoc\, WI Program: &ldquo\;A Look at Old German Records&rdquo\;\, with Karyl Rommelfanger. Now is your chance. Bring in a photocopy of an old German document and have some help translating it. (Please don&rsquo\;t bring any original documents. They are too precious and irreplaceable.) Karyl holds degrees in German and History and has taught German in the public schools 36 years\, most of those years here in Manitowoc. She&rsquo\;s a true wealth of information. Visitors Welcome!
LOCATION:Balkansky Room\, Manitowoc Public Library\, 707 Quay St.\, Manitowoc\, WI
UID:e.361.13642
SEQUENCE:3
DTSTAMP:20260426T032636Z
URL:https://business.chambermanitowoccounty.org/events/details/manitowoc-county-genealogical-society-meeting-11-13-2018-13642
END:VEVENT

END:VCALENDAR
