BEGIN:VCALENDAR
VERSION:2.0
PRODID:-//ChamberMaster//Event Calendar 2.0//EN
METHOD:PUBLISH
X-PUBLISHED-TTL:P3D
REFRESH-INTERVAL:P3D
CALSCALE:GREGORIAN
BEGIN:VEVENT
DTSTART:20230112T000000Z
DTEND:20230112T014500Z
X-MICROSOFT-CDO-ALLDAYEVENT:FALSE
SUMMARY:Manitowoc County Genealogical Society Meeting & Program
DESCRIPTION:Manitowoc County Genealogical Society Meeting & Program Wednesday\, January 11\, 2023 at 6pm\, in Balkansky Room A\, Manitowoc Public Library\, 707 Quay St.\, Manitowoc\, WI Program: Share a Family History Story\, or a Family Heirloom's History. We all like to share our stories and "finds". Here's your opportunity. Share a story with us from your family history\, or tell us the story behind a special family heirloom. This is always an enjoyable meeting! Our meetings are open to the public. Hope to see you there! https://manitowoccountygenealogicalsociety.wordpress.com
X-ALT-DESC;FMTTYPE=text/html:Manitowoc County Genealogical Society Meeting &amp\; Program Wednesday\, January 11\, 2023 at 6pm\, in Balkansky Room A\, Manitowoc Public Library\, 707 Quay St.\, Manitowoc\, WI Program: Share a Family History Story\, or a Family Heirloom&rsquo\;s History. We all like to share our stories and &ldquo\;finds&rdquo\;. Here&rsquo\;s your opportunity. Share a story with us from your family history\, or tell us the story behind a special family heirloom. This is always an enjoyable meeting! Our meetings are open to the public. Hope to see you there! https://manitowoccountygenealogicalsociety.wordpress.com
LOCATION:Balkansky Room A\, Manitowoc Public Library\, 707 Quay St.\, Manitowoc\, WI
UID:e.361.18391
SEQUENCE:3
DTSTAMP:20260420T004140Z
URL:https://business.chambermanitowoccounty.org/events/details/manitowoc-county-genealogical-society-meeting-program-01-11-2023-18391
END:VEVENT

END:VCALENDAR
