BEGIN:VCALENDAR
VERSION:2.0
PRODID:-//ChamberMaster//Event Calendar 2.0//EN
METHOD:PUBLISH
X-PUBLISHED-TTL:P3D
REFRESH-INTERVAL:P3D
CALSCALE:GREGORIAN
BEGIN:VEVENT
DTSTART:20230412T230000Z
DTEND:20230413T003000Z
X-MICROSOFT-CDO-ALLDAYEVENT:FALSE
SUMMARY:Manitowoc County Genealogical Society Meeting & Program
DESCRIPTION:Manitowoc County Genealogical Society Meeting Wednesday\, April 12\, 2023\, 6:00pm in the Balkansky Room BC\, Manitowoc Public Library\, 707 Quay St.\, Manitowoc\, WI Program: The Wimmler Farm A Century and Beyond\, with Kirsten Husband. Kirsten will follow the Wimmler family of Centerville from 1852-1952 and then tell how they impacted her life in a surprising way. Hope to see you there! Check us out at https://manitowoccountygenealogicalsociety.wordpress.com/ or on Facebook
X-ALT-DESC;FMTTYPE=text/html:Manitowoc County Genealogical Society Meeting Wednesday\, April 12\, 2023\, 6:00pm in the Balkansky Room BC\, Manitowoc Public Library\, 707 Quay St.\, Manitowoc\, WI Program: The Wimmler Farm&mdash\;A Century and Beyond\, with Kirsten Husband. Kirsten will follow the Wimmler family of Centerville from 1852-1952 and then tell how they impacted her life in a surprising way. Hope to see you there! Check us out at https://manitowoccountygenealogicalsociety.wordpress.com/ or on Facebook
LOCATION:Balkansky Room BC\, Manitowoc Public Library\, 707 Quay St.\, Manitowoc\, WI
UID:e.361.18872
SEQUENCE:3
DTSTAMP:20260419T191729Z
URL:https://business.chambermanitowoccounty.org/events/details/manitowoc-county-genealogical-society-meeting-program-04-12-2023-18872
END:VEVENT

END:VCALENDAR
