BEGIN:VCALENDAR
VERSION:2.0
PRODID:-//ChamberMaster//Event Calendar 2.0//EN
METHOD:PUBLISH
X-PUBLISHED-TTL:P3D
REFRESH-INTERVAL:P3D
CALSCALE:GREGORIAN
BEGIN:VEVENT
DTSTART:20221110T000000Z
DTEND:20221110T013000Z
X-MICROSOFT-CDO-ALLDAYEVENT:FALSE
SUMMARY:Manitowoc County Genealogical Society Meeting & Program
DESCRIPTION:Manitowoc County Genealogical Society Meeting & Program Wednesday\, November 9\, 2022 at 6:00pm in Balkansky Room A\, Manitowoc Public Library\, 707 Quay Street\, Manitowoc\, WI Program: When an Elder Dies\, a Library Burns to the Ground. Now's the Time to Write your Stories! with Laurie Shawhan. Laurie has worked many years on her family history\, gathering and compiling information\, and writing family stories along the way. She hopes we realize how important it is to pass these stories on\, and will help us get started in that process. Additionally\, we will have some MCGS members share their stories. The program is free and open to the public https://manitowoccountygenealogicalsociety.wordpress.com/
X-ALT-DESC;FMTTYPE=text/html:Manitowoc County Genealogical Society Meeting &amp\; Program Wednesday\, November 9\, 2022 at 6:00pm in Balkansky Room A\, Manitowoc Public Library\, 707 Quay Street\, Manitowoc\, WI Program: When an Elder Dies\, a Library Burns to the Ground. Now&rsquo\;s the Time to Write your Stories! with Laurie Shawhan. Laurie has worked many years on her family history\, gathering and compiling information\, and writing family stories along the way. She hopes we realize how important it is to pass these stories on\, and will help us get started in that process. Additionally\, we will have some MCGS members share their stories. The program is free and open to the public https://manitowoccountygenealogicalsociety.wordpress.com/
LOCATION:Balkansky Room A\, Manitowoc Public Library\, 707 Quay Street\, Manitowoc\, WI
UID:e.361.18108
SEQUENCE:3
DTSTAMP:20260420T021335Z
URL:https://business.chambermanitowoccounty.org/events/details/manitowoc-county-genealogical-society-meeting-program-11-09-2022-18108
END:VEVENT

END:VCALENDAR
