BEGIN:VCALENDAR
VERSION:2.0
PRODID:-//ChamberMaster//Event Calendar 2.0//EN
METHOD:PUBLISH
X-PUBLISHED-TTL:P3D
REFRESH-INTERVAL:P3D
CALSCALE:GREGORIAN
BEGIN:VEVENT
DTSTART:20190406T150000Z
DTEND:20190406T210000Z
X-MICROSOFT-CDO-ALLDAYEVENT:FALSE
SUMMARY:Manitowoc Home Show
DESCRIPTION:Be Inspired at the annual Manitowoc County Home Builders Association Home Show! In addition to everything you need to build\, remodel\, update\, or landscape your home\, there is even more for your HOME lifestyle! HOME cooking demonstrations\, shopping at the HOME Show MarketPlace\, HOME brewing\, and HOME and garden expert Melinda Myers all under one roof. Please check our website for all the exciting event details. www.manitowoccountyhomebuilders.com
X-ALT-DESC;FMTTYPE=text/html:Be Inspired at the annual Manitowoc County Home Builders Association Home Show! In addition to everything you need to build\, remodel\, update\, or landscape your home\, there is even more for your HOME lifestyle! HOME cooking demonstrations\, shopping at the HOME Show MarketPlace\, HOME brewing\, and HOME and garden expert Melinda Myers&hellip\;all under one roof. Please check our website for all the exciting event details. www.manitowoccountyhomebuilders.com
LOCATION:Manitowoc County Ice Center
UID:e.361.14094
SEQUENCE:3
DTSTAMP:20260425T214819Z
URL:https://business.chambermanitowoccounty.org/events/details/manitowoc-home-show-04-06-2019-14094
END:VEVENT

END:VCALENDAR
