BEGIN:VCALENDAR
VERSION:2.0
PRODID:-//ChamberMaster//Event Calendar 2.0//EN
METHOD:PUBLISH
X-PUBLISHED-TTL:P3D
REFRESH-INTERVAL:P3D
CALSCALE:GREGORIAN
BEGIN:VEVENT
DTSTART:20221218T013000Z
DTEND:20221218T033000Z
X-MICROSOFT-CDO-ALLDAYEVENT:FALSE
SUMMARY:Marie Osmond - A Symphonic Christmas 2022
DESCRIPTION:Marie Osmond has spent five iconic decades in the entertainment business performing as a successful singer\, television performer\, actor\, author\, entrepreneur and public speaker. She has continued to maintain relevance\, remaining an instantly recognizable figure across the globe. Her debut single "Paper Roses" reached the No. 1 spot on two Billboard charts\, a feat that not only placed her among an elite class of musical royalty\, but instantly catapulted her into international superstardom. She is a multiple gold and platinum selling artist and CMA winner\, garnering numerous Billboard chart-topping singles and albums and three New York Times Bestselling books. She has entertained millions throughout the world through television\, radio\, film\, literature\, live concerts and Broadway. Osmond's forthcoming album\, Unexpected\, is the followup to her Top 10 Billboard Country album\, Music is Medicine.
X-ALT-DESC;FMTTYPE=text/html:Marie Osmond has spent five iconic decades in the entertainment business performing as a successful singer\, television performer\, actor\, author\, entrepreneur and public speaker. She has continued to maintain relevance\, remaining an instantly recognizable figure across the globe. Her debut single &ldquo\;Paper Roses&rdquo\; reached the No. 1 spot on two Billboard charts\, a feat that not only placed her among an elite class of musical royalty\, but instantly catapulted her into international superstardom. She is a multiple gold and platinum selling artist and CMA winner\, garnering numerous Billboard chart-topping singles and albums and three New York Times Bestselling books. She has entertained millions throughout the world through television\, radio\, film\, literature\, live concerts and Broadway. Osmond&#39\;s forthcoming album\, Unexpected\, is the followup to her Top 10 Billboard Country album\, Music is Medicine.
LOCATION:Weill Center
UID:e.361.18031
SEQUENCE:3
DTSTAMP:20260420T004253Z
URL:https://business.chambermanitowoccounty.org/events/details/marie-osmond-a-symphonic-christmas-2022-18031
END:VEVENT

END:VCALENDAR
