BEGIN:VCALENDAR
VERSION:2.0
PRODID:-//ChamberMaster//Event Calendar 2.0//EN
METHOD:PUBLISH
X-PUBLISHED-TTL:P3D
REFRESH-INTERVAL:P3D
CALSCALE:GREGORIAN
BEGIN:VEVENT
DTSTART:20191029T230000Z
DTEND:20191030T000000Z
X-MICROSOFT-CDO-ALLDAYEVENT:FALSE
SUMMARY:Medicare and Medicaid - Hamilton Care Center
DESCRIPTION:Medicare and Medicaid\n\nMedicare is a federal program that provides health coverage if you are 65+ or under 65 and have a disability\, no matter your income. Medicaid is a state and federal program that provides health coverage if you have a very low income. This is your opportunity to learn more about the differences.
X-ALT-DESC;FMTTYPE=text/html:Medicare and Medicaid<br />\nMedicare is a federal program that provides health coverage if you are 65+ or under 65 and have a disability\, no matter your income. Medicaid is a state and federal program that provides health coverage if you have a very low income. This is your opportunity to learn more about the differences.
LOCATION:Hamilton Care Center North Dining Room
UID:e.361.14113
SEQUENCE:3
DTSTAMP:20260425T143558Z
URL:https://business.chambermanitowoccounty.org/events/details/medicare-and-medicaid-hamilton-care-center-14113
END:VEVENT

END:VCALENDAR
