BEGIN:VCALENDAR
VERSION:2.0
PRODID:-//ChamberMaster//Event Calendar 2.0//EN
METHOD:PUBLISH
X-PUBLISHED-TTL:P3D
REFRESH-INTERVAL:P3D
CALSCALE:GREGORIAN
BEGIN:VEVENT
DTSTART:20190608T170000Z
DTEND:20190609T170000Z
X-MICROSOFT-CDO-ALLDAYEVENT:FALSE
SUMMARY:Michael Perry and The Long Beds
DESCRIPTION:Wisconsin's bestselling humorist and author Michael Perry returns with his band the Long Beds for a night of music\, storytelling\, and laughter.
X-ALT-DESC;FMTTYPE=text/html:Wisconsin&rsquo\;s bestselling humorist and author Michael Perry returns with his band the Long Beds for a night of music\, storytelling\, and laughter.
LOCATION:The Forst Inn E2910 County Road BB Tisch Mills
UID:e.361.14305
SEQUENCE:3
DTSTAMP:20260425T192944Z
URL:https://business.chambermanitowoccounty.org/events/details/michael-perry-and-the-long-beds-14305
END:VEVENT

END:VCALENDAR
