BEGIN:VCALENDAR
VERSION:2.0
PRODID:-//ChamberMaster//Event Calendar 2.0//EN
METHOD:PUBLISH
X-PUBLISHED-TTL:P3D
REFRESH-INTERVAL:P3D
CALSCALE:GREGORIAN
BEGIN:VEVENT
DTSTART:20211211T150000Z
DTEND:20211211T190000Z
X-MICROSOFT-CDO-ALLDAYEVENT:FALSE
SUMMARY:Milk & Cookies with Santa
DESCRIPTION:Join us for the third annual Milk + Cookies with Santa at Farm Wisconsin Discovery Center! FREE event that is fun for the whole family: + Meet Santa + Drink Milk + Eat Cookies + Children's Activities Partnered with the Manitowoc County Dairy Promotions.
X-ALT-DESC;FMTTYPE=text/html:Join us for the third annual Milk + Cookies with Santa at Farm Wisconsin Discovery Center! FREE event that is fun for the whole family: + Meet Santa + Drink Milk + Eat Cookies + Children&rsquo\;s Activities Partnered with the Manitowoc County Dairy Promotions.
LOCATION:Farm Wisconsin Discovery Center (7001 Gass Lake Rd Manitowoc\, WI 54220)
UID:e.361.17150
SEQUENCE:3
DTSTAMP:20260422T182747Z
URL:https://business.chambermanitowoccounty.org/events/details/milk-cookies-with-santa-12-11-2021-17150
END:VEVENT

END:VCALENDAR
