BEGIN:VCALENDAR
VERSION:2.0
PRODID:-//ChamberMaster//Event Calendar 2.0//EN
METHOD:PUBLISH
X-PUBLISHED-TTL:P3D
REFRESH-INTERVAL:P3D
CALSCALE:GREGORIAN
BEGIN:VEVENT
DTSTART:20181026T000000Z
DTEND:20181026T020000Z
X-MICROSOFT-CDO-ALLDAYEVENT:FALSE
SUMMARY:Milwaukee Symphony Orchestra
DESCRIPTION:Milwaukee Symphony Orchestra performs the music of Brahm\, Stravinsky and Debussy. Associate conductor Yaniv Dinur leads the orchestra in Brahm's poetic Second Symphony\, the suite from Stravinsky's ballet\, "the Firebird"\, plus two of Claude Debussy's most beloved works\, Prelude to the Afternoon of a Fawn and Claire de Lune.
X-ALT-DESC;FMTTYPE=text/html:Milwaukee Symphony Orchestra performs the music of Brahm\, Stravinsky and Debussy. Associate conductor Yaniv Dinur leads the orchestra in Brahm&#39\;s poetic Second Symphony\, the suite from Stravinsky&#39\;s ballet\, &quot\;the Firebird&quot\;\, plus two of Claude Debussy&#39\;s most beloved works\, Prelude to the Afternoon of a Fawn and Claire de Lune.&nbsp\;
LOCATION:The Franciscan Center for Music Education and Performance Hall Silver Lake College of the Holy Family 2406 S. Alverno Rd.\, Manitowoc
UID:e.361.13590
SEQUENCE:3
DTSTAMP:20260426T043000Z
URL:https://business.chambermanitowoccounty.org/events/details/milwaukee-symphony-orchestra-13590
END:VEVENT

END:VCALENDAR
