BEGIN:VCALENDAR
VERSION:2.0
PRODID:-//ChamberMaster//Event Calendar 2.0//EN
METHOD:PUBLISH
X-PUBLISHED-TTL:P3D
REFRESH-INTERVAL:P3D
CALSCALE:GREGORIAN
BEGIN:VEVENT
DTSTART:20191102T000000Z
DTEND:20191103T180000Z
X-MICROSOFT-CDO-ALLDAYEVENT:FALSE
SUMMARY:Mishicot High School Presents South Pacific
DESCRIPTION:Mishicot High School will present Roger and Hammerstein's South Pacific during the first weekend of November: the 1st and 2nd at 7:00PM and the 3rd at 2:00PM. Tickets are $8 at the door. Park in the back by the varsity gym lobby. Performance address: Mishicot High School 660 Washington Street Mishicot\, WI 54228 From the Rogers and Hammerstein Theatrical website: Set in an island paradise during World War II\, two parallel love stories are threatened by the dangers of prejudice and war. Nellie\, a spunky nurse from Arkansas\, falls in love with a mature French planter\, Emile. Nellie learns that the mother of his children was an island native and\, unable to turn her back on the prejudices with which she was raised\, refuses Emile's proposal of marriage. Meanwhile\, the strapping Lt. Joe Cable denies himself the fulfillment of a future with an innocent Tonkinese girl with whom he's fallen in love out of the same fears that haunt Nellie. When Emile is recruited to accompany Joe on a dangerous mission that claims Joe's life\, Nellie realizes that life is too short not to seize her own chance for happiness\, thus confronting and conquering her prejudices.
X-ALT-DESC;FMTTYPE=text/html:Mishicot High School will present Roger and Hammerstein&#39\;s South Pacific during the first weekend of November: the 1st and 2nd at 7:00PM and the 3rd at 2:00PM. Tickets are $8 at the door. Park in the back by the varsity gym lobby. Performance address: Mishicot High School 660 Washington Street Mishicot\, WI 54228 From the Rogers and Hammerstein Theatrical website: Set in an island paradise during World War II\, two parallel love stories are threatened by the dangers of prejudice and war. Nellie\, a spunky nurse from Arkansas\, falls in love with a mature French planter\, Emile. Nellie learns that the mother of his children was an island native and\, unable to turn her back on the prejudices with which she was raised\, refuses Emile&#39\;s proposal of marriage. Meanwhile\, the strapping Lt. Joe Cable denies himself the fulfillment of a future with an innocent Tonkinese girl with whom he&#39\;s fallen in love out of the same fears that haunt Nellie. When Emile is recruited to accompany Joe on a dangerous mission that claims Joe&#39\;s life\, Nellie realizes that life is too short not to seize her own chance for happiness\, thus confronting and conquering her prejudices.
LOCATION:Mishicot High School
UID:e.361.14794
SEQUENCE:3
DTSTAMP:20260425T131347Z
URL:https://business.chambermanitowoccounty.org/events/details/mishicot-high-school-presents-south-pacific-14794
END:VEVENT

END:VCALENDAR
