BEGIN:VCALENDAR
VERSION:2.0
PRODID:-//ChamberMaster//Event Calendar 2.0//EN
METHOD:PUBLISH
X-PUBLISHED-TTL:P3D
REFRESH-INTERVAL:P3D
CALSCALE:GREGORIAN
BEGIN:VEVENT
DTSTART:20201121T010000Z
DTEND:20201123T010000Z
X-MICROSOFT-CDO-ALLDAYEVENT:FALSE
SUMMARY:Mishicot High School Presents The Hallburgh Files: Case 220
DESCRIPTION:This virtual vignette musical begins early one morning when several individuals are visited by Detective Hallburgh for questioning. Someone has stolen a diamond necklace worth 30K from Harris and Martin Jewelers. Whodunnit? Will the Detective be able to crack the case? This outwardly unconnected group of strangers is more connected than one might think!
X-ALT-DESC;FMTTYPE=text/html:This virtual vignette musical begins early one morning when several individuals are visited by Detective Hallburgh for questioning. Someone has stolen a diamond necklace worth 30K from Harris and Martin Jewelers. Whodunnit? Will the Detective be able to crack the case? This outwardly unconnected group of strangers is more connected than one might think!
LOCATION:Online
UID:e.361.15846
SEQUENCE:3
DTSTAMP:20260424T221855Z
URL:https://business.chambermanitowoccounty.org/events/details/mishicot-high-school-presents-the-hallburgh-files-case-220-15846
END:VEVENT

END:VCALENDAR
