BEGIN:VCALENDAR
VERSION:2.0
PRODID:-//ChamberMaster//Event Calendar 2.0//EN
METHOD:PUBLISH
X-PUBLISHED-TTL:P3D
REFRESH-INTERVAL:P3D
CALSCALE:GREGORIAN
BEGIN:VEVENT
DTSTART:20181104T000000Z
DTEND:20181104T030000Z
X-MICROSOFT-CDO-ALLDAYEVENT:FALSE
SUMMARY:Mishicot High School's Beauty and the Beast
DESCRIPTION:Come to see Disney's Beauty and the Beast at Mishicot High School on November 2nd and 3rd at 7PM and November 4th at 2:00PM. 660 Washington Street\, Mishicot\, Wisconsin 54228. Tickets are $8 at the door. Please join us for this enduring classic that reminds people that true beauty comes from within\; it's about being selfless and kind to others. It also reminds viewers that your happily ever after can start where you least expect it to begin. Music by Alan Menken\, lyrics by Howard Ashman and Tim Rice\, book by Linda Woolverton\, originally directed by Robert Jess Roth\, originally produced by Disney Theatrical Productions\, orchestrations by Danny Troob\, vocal arrangements by David Friedman\, incidental music by Michael Kosarin\, dance arrangements by Glen Kelly.
X-ALT-DESC;FMTTYPE=text/html:Come to see Disney&rsquo\;s Beauty and the Beast at Mishicot High School on November 2nd and 3rd at 7PM and November 4th at 2:00PM. 660 Washington Street\, Mishicot\, Wisconsin 54228. Tickets are $8 at the door. Please join us for this enduring classic that reminds people that true beauty comes from within\; it&rsquo\;s about being selfless and kind to others. It also reminds viewers that your happily ever after can start where you least expect it to begin. Music by Alan Menken\, lyrics by Howard Ashman and Tim Rice\, book by Linda Woolverton\, originally directed by Robert Jess Roth\, originally produced by Disney Theatrical Productions\, orchestrations by Danny Troob\, vocal arrangements by David Friedman\, incidental music by Michael Kosarin\, dance arrangements by Glen Kelly.
LOCATION:Mishicot High School 660 Washington Street\, Mishicot\, WI 54228
UID:e.361.11899
SEQUENCE:3
DTSTAMP:20260426T043702Z
URL:https://business.chambermanitowoccounty.org/events/details/mishicot-high-school-s-beauty-and-the-beast-11-03-2018-11899
END:VEVENT

END:VCALENDAR
