BEGIN:VCALENDAR
VERSION:2.0
PRODID:-//ChamberMaster//Event Calendar 2.0//EN
METHOD:PUBLISH
X-PUBLISHED-TTL:P3D
REFRESH-INTERVAL:P3D
CALSCALE:GREGORIAN
BEGIN:VEVENT
DTSTART:20211128T203000Z
DTEND:20211128T223000Z
X-MICROSOFT-CDO-ALLDAYEVENT:FALSE
SUMMARY:MOVIE: How the Grinch Stole Christmas
DESCRIPTION:In this live-action adaptation of the beloved children's tale by Dr. Seuss\, the reclusive green Grinch (Jim Carrey) decides to ruin Christmas for the cheery citizens of Whoville. Reluctantly joined by his hapless dog\, Max\, the Grinch comes down from his mountaintop home and sneaks into town to swipe everything holiday-related from the Whos. However\, the bitter grump finds a hitch in his plans when he encounters the endearing Cindy Lou Who (Taylor Momsen).
X-ALT-DESC;FMTTYPE=text/html:In this live-action adaptation of the beloved children&#39\;s tale by Dr. Seuss\, the reclusive green Grinch (Jim Carrey) decides to ruin Christmas for the cheery citizens of Whoville. Reluctantly joined by his hapless dog\, Max\, the Grinch comes down from his mountaintop home and sneaks into town to swipe everything holiday-related from the Whos. However\, the bitter grump finds a hitch in his plans when he encounters the endearing Cindy Lou Who (Taylor Momsen).
LOCATION:Weill Center
UID:e.361.16996
SEQUENCE:3
DTSTAMP:20260422T195354Z
URL:https://business.chambermanitowoccounty.org/events/details/movie-how-the-grinch-stole-christmas-16996
END:VEVENT

END:VCALENDAR
