BEGIN:VCALENDAR
VERSION:2.0
PRODID:-//ChamberMaster//Event Calendar 2.0//EN
METHOD:PUBLISH
X-PUBLISHED-TTL:P3D
REFRESH-INTERVAL:P3D
CALSCALE:GREGORIAN
BEGIN:VEVENT
DTSTART:20211128T010000Z
DTEND:20211128T030000Z
X-MICROSOFT-CDO-ALLDAYEVENT:FALSE
SUMMARY:MOVIE: National Lampoon's Christmas Vacation
DESCRIPTION:National Lampoon's Christmas Vacation (PG-13) | Comedy\, Holiday As the holidays approach\, Clark Griswold (Chevy Chase) wants to have a perfect family Christmas\, so he pesters his wife\, Ellen (Beverly D'Angelo)\, and children\, as he tries to make sure everything is in line\, including the tree and house decorations. However\, things go awry quickly. His hick cousin\, Eddie (Randy Quaid)\, and his family show up unplanned and start living in their camper on the Griswold property. Even worse\, Clark's employers renege on the holiday bonus he needs.
X-ALT-DESC;FMTTYPE=text/html:National Lampoon&#39\;s Christmas Vacation (PG-13) | Comedy\, Holiday As the holidays approach\, Clark Griswold (Chevy Chase) wants to have a perfect family Christmas\, so he pesters his wife\, Ellen (Beverly D&#39\;Angelo)\, and children\, as he tries to make sure everything is in line\, including the tree and house decorations. However\, things go awry quickly. His hick cousin\, Eddie (Randy Quaid)\, and his family show up unplanned and start living in their camper on the Griswold property. Even worse\, Clark&#39\;s employers renege on the holiday bonus he needs.
LOCATION:Weill Center
UID:e.361.17011
SEQUENCE:3
DTSTAMP:20260422T195542Z
URL:https://business.chambermanitowoccounty.org/events/details/movie-national-lampoon-s-christmas-vacation-11-27-2021-17011
END:VEVENT

END:VCALENDAR
