BEGIN:VCALENDAR
VERSION:2.0
PRODID:-//ChamberMaster//Event Calendar 2.0//EN
METHOD:PUBLISH
X-PUBLISHED-TTL:P3D
REFRESH-INTERVAL:P3D
CALSCALE:GREGORIAN
BEGIN:VEVENT
DTSTART:20210911T000000Z
DTEND:20210911T020000Z
X-MICROSOFT-CDO-ALLDAYEVENT:FALSE
SUMMARY:Movie: Phantom of the Opera
DESCRIPTION:Member pre-sale begins Tuesday\, May 25 at 12 p.m. Public on-sale begins Thursday\, May 27 at 12 p.m. Tickets can be purchased over the phone at 920-208-3243\, in person at 826 N 8th St. or online. Ticket Office is open Tuesday-Friday\, 12-5 p.m. --- About Phantom of the Opera (PG-13): From his hideout beneath a 19th century Paris opera house\, the brooding Phantom (Gerard Butler) schemes to get closer to vocalist Christine Daae (Emmy Rossum). The Phantom\, wearing a mask to hide a congenital disfigurement\, strong-arms management into giving the budding starlet key roles\, but Christine instead falls for arts benefactor Raoul (Patrick Wilson). Terrified at the notion of her absence\, the Phantom enacts a plan to keep Christine by his side\, while Raoul tries to foil the scheme. --- Additional information: -Doors open 1 hour prior to the show. -Prepackaged popcorn will be available for purchase. -No refunds\, exchanges or weather cancellations. -We are not affiliated with any secondary ticket markets. -Masks encouraged.
X-ALT-DESC;FMTTYPE=text/html:Member pre-sale begins Tuesday\, May 25 at 12 p.m. Public on-sale begins Thursday\, May 27 at 12 p.m. Tickets can be purchased over the phone at 920-208-3243\, in person at 826 N 8th St. or online. Ticket Office is open Tuesday-Friday\, 12-5 p.m. --- About Phantom of the Opera (PG-13): From his hideout beneath a 19th century Paris opera house\, the brooding Phantom (Gerard Butler) schemes to get closer to vocalist Christine Daae (Emmy Rossum). The Phantom\, wearing a mask to hide a congenital disfigurement\, strong-arms management into giving the budding starlet key roles\, but Christine instead falls for arts benefactor Raoul (Patrick Wilson). Terrified at the notion of her absence\, the Phantom enacts a plan to keep Christine by his side\, while Raoul tries to foil the scheme. --- Additional information: -Doors open 1 hour prior to the show. -Prepackaged popcorn will be available for purchase. -No refunds\, exchanges or weather cancellations. -We are not affiliated with any secondary ticket markets. -Masks encouraged.
LOCATION:Weill Center
UID:e.361.16203
SEQUENCE:3
DTSTAMP:20260422T225102Z
URL:https://business.chambermanitowoccounty.org/events/details/movie-phantom-of-the-opera-16203
END:VEVENT

END:VCALENDAR
